
BEGIN:VCALENDAR
VERSION:2.0
PRODID:-//Ville de Saint-Martin-Boulogne - ECPv5.4.0.2//NONSGML v1.0//EN
CALSCALE:GREGORIAN
METHOD:PUBLISH
X-WR-CALNAME:Ville de Saint-Martin-Boulogne
X-ORIGINAL-URL:https://saintmartinboulogne.fr
X-WR-CALDESC:Events for Ville de Saint-Martin-Boulogne
BEGIN:VTIMEZONE
TZID:Europe/Paris
BEGIN:DAYLIGHT
TZOFFSETFROM:+0100
TZOFFSETTO:+0200
TZNAME:CEST
DTSTART:20230326T010000
END:DAYLIGHT
BEGIN:STANDARD
TZOFFSETFROM:+0200
TZOFFSETTO:+0100
TZNAME:CET
DTSTART:20231029T010000
END:STANDARD
END:VTIMEZONE
BEGIN:VEVENT
DTSTART;VALUE=DATE:20230512
DTEND;VALUE=DATE:20230514
DTSTAMP:20260422T024711
CREATED:20230505T142557Z
LAST-MODIFIED:20230505T143247Z
UID:8723-1683849600-1684022399@saintmartinboulogne.fr
SUMMARY:24h St Jo
DESCRIPTION:20ème édition\n24H ST JO\nEUROPEAN CARS\n12 et 13 mai 2023 \nVendredi 12 mai\nOuverture au public de 10h à 23h\nCérémonie d’ouverture / Départ de la course à 11h30\nVenez accompagner et encourager l’ensemble des équipes… \nCampus 24h vers le futur à partir de 14h\n– Démonstration « Industrie 4.0 »\n– Expositions de véhicules électriques\n– 24h de St Jo : 20 ans d’innovation pédagogique\n– Animations engins de déplacement motorisés (trottinettes électriques) \nSamedi 13 mai\nOuverture au public à partir de 8h\nArrivée de la course à 12h \nLycée / Campus privés\nSaint Joseph\n26 – 30 route de Calais\n62280 Saint-Martin-Boulogne\n03 21 99 06 99\ncontact@st-jo.com
URL:https://saintmartinboulogne.fr/agenda/20eme-edition-24h-st-jo/
LOCATION:Lycée – Campus privés Saint-Joseph\, 26 - 30 route de Calais\, SAINT MARTIN BOULOGNE\, 62280
CATEGORIES:Animation
ATTACH;FMTTYPE=image/jpeg:https://saintmartinboulogne.fr/wp-content/uploads/2023/05/AFFICHE-24H-2023-portrait.jpg
ORGANIZER;CN="Lyc%C3%A9e%20-%20Campus%20priv%C3%A9s%20Saint-Joseph":MAILTO:contact@st-jo.com
END:VEVENT
END:VCALENDAR