
BEGIN:VCALENDAR
VERSION:2.0
PRODID:-//Ville de Saint-Martin-Boulogne - ECPv5.4.0.2//NONSGML v1.0//EN
CALSCALE:GREGORIAN
METHOD:PUBLISH
X-WR-CALNAME:Ville de Saint-Martin-Boulogne
X-ORIGINAL-URL:https://saintmartinboulogne.fr
X-WR-CALDESC:Events for Ville de Saint-Martin-Boulogne
BEGIN:VTIMEZONE
TZID:Europe/Paris
BEGIN:DAYLIGHT
TZOFFSETFROM:+0100
TZOFFSETTO:+0200
TZNAME:CEST
DTSTART:20230326T010000
END:DAYLIGHT
BEGIN:STANDARD
TZOFFSETFROM:+0200
TZOFFSETTO:+0100
TZNAME:CET
DTSTART:20231029T010000
END:STANDARD
END:VTIMEZONE
BEGIN:VEVENT
DTSTART;TZID=Europe/Paris:20230708T093000
DTEND;TZID=Europe/Paris:20230708T230000
DTSTAMP:20260420T134733
CREATED:20230608T092654Z
LAST-MODIFIED:20230609T071045Z
UID:9154-1688808600-1688857200@saintmartinboulogne.fr
SUMMARY:30 ans du Centre social éclaté
DESCRIPTION:Le Centre social éclaté fête ses 30 ans le 8 juillet ! \nRendez-vous toute la journée sur le parvis du centre culturel Georges-Brassens pour célébrer cet anniversaire. \nAu programme : mur d’escalade\, structures gonflables\, escape game\, laser game\, exposition\, jeux d’arcade\, casques de réalité virtuelle\, pilotage de drones\, tournoi de panna football\, vélos rigolos\, balade en calèche\, village Petite Enfance\, bubble foot\, hoverkart\, spectacle\, concerts\, restauration\,… Et plein d’autres activités\, jeux et animations pour toute la famille ! \nUn repas est proposé au prix de 5€.\nRéservations sur helloasso
URL:https://saintmartinboulogne.fr/agenda/30-ans-du-centre-social-eclate/
LOCATION:Centre culturel Georges-Brassens\, Rue des Sources\, SAINT MARTIN BOULOGNE\, 62280\, France
CATEGORIES:Animation
ATTACH;FMTTYPE=image/jpeg:https://saintmartinboulogne.fr/wp-content/uploads/2023/06/Affiche-OK-30ans-CSE-scaled.jpg
END:VEVENT
END:VCALENDAR