
BEGIN:VCALENDAR
VERSION:2.0
PRODID:-//Ville de Saint-Martin-Boulogne - ECPv5.4.0.2//NONSGML v1.0//EN
CALSCALE:GREGORIAN
METHOD:PUBLISH
X-WR-CALNAME:Ville de Saint-Martin-Boulogne
X-ORIGINAL-URL:https://saintmartinboulogne.fr
X-WR-CALDESC:Events for Ville de Saint-Martin-Boulogne
BEGIN:VTIMEZONE
TZID:Europe/Paris
BEGIN:DAYLIGHT
TZOFFSETFROM:+0100
TZOFFSETTO:+0200
TZNAME:CEST
DTSTART:20230326T010000
END:DAYLIGHT
BEGIN:STANDARD
TZOFFSETFROM:+0200
TZOFFSETTO:+0100
TZNAME:CET
DTSTART:20231029T010000
END:STANDARD
END:VTIMEZONE
BEGIN:VEVENT
DTSTART;TZID=Europe/Paris:20230617T140000
DTEND;TZID=Europe/Paris:20230617T170000
DTSTAMP:20260420T234844
CREATED:20230512T122245Z
LAST-MODIFIED:20230524T133701Z
UID:8814-1687010400-1687021200@saintmartinboulogne.fr
SUMMARY:Action ville propre
DESCRIPTION:Conseil municipal des jeunes\nACTION VILLE PROPRE\nSeul ou en famille nettoyons notre ville !\nSamedi 17 juin 2023\nde 14h à 17h\nPlace Francis-Delury\nMatériel fourni – Goûter offert \n+ d’infos : 06 37 08 01 42
URL:https://saintmartinboulogne.fr/agenda/action-ville-propre/
LOCATION:Place Francis-Delury\, SAINT MARTIN BOULOGNE\, 62280
ATTACH;FMTTYPE=image/jpeg:https://saintmartinboulogne.fr/wp-content/uploads/2023/05/action-ville-propre-ok-pour-site.jpg
ORGANIZER;CN="Conseil%20municipal%20des%20jeunes":MAILTO:cmj@ville-stmartinboulogne.fr
END:VEVENT
END:VCALENDAR