
BEGIN:VCALENDAR
VERSION:2.0
PRODID:-//Ville de Saint-Martin-Boulogne - ECPv5.4.0.2//NONSGML v1.0//EN
CALSCALE:GREGORIAN
METHOD:PUBLISH
X-WR-CALNAME:Ville de Saint-Martin-Boulogne
X-ORIGINAL-URL:https://saintmartinboulogne.fr
X-WR-CALDESC:Events for Ville de Saint-Martin-Boulogne
BEGIN:VTIMEZONE
TZID:Europe/Paris
BEGIN:DAYLIGHT
TZOFFSETFROM:+0100
TZOFFSETTO:+0200
TZNAME:CEST
DTSTART:20230326T010000
END:DAYLIGHT
BEGIN:STANDARD
TZOFFSETFROM:+0200
TZOFFSETTO:+0100
TZNAME:CET
DTSTART:20231029T010000
END:STANDARD
END:VTIMEZONE
BEGIN:VEVENT
DTSTART;TZID=Europe/Paris:20230606T090000
DTEND;TZID=Europe/Paris:20230606T090000
DTSTAMP:20260421T045256
CREATED:20230517T101736Z
LAST-MODIFIED:20230524T134052Z
UID:8861-1686042000-1686042000@saintmartinboulogne.fr
SUMMARY:Alternance job dating St Jo
DESCRIPTION:BONJOUR\nPrépare ton avenir avec l’ALTERNANCE au campus St Jo\n(du BAC+2 au BAC+5)\nALTERNANCE JOB DATING\nMardi 6 juin 2023 \nTrouve ton emploi avec les entreprises qui recrutent\ndans les secteurs suivants :\n> 9h00 : Commerce – Marketing – Communication\n> 11h00 : Informatique – Maintenance industrielle – Électronique et électricité\n> 14h00 : Ressources Humaines – Gestion Administrative – Gestion PME \nMultiplie tes chances de faire la différence ! \nLycée / Campus privés\nSaint Joseph\n26 – 30 route de Calais\n62280 SAINT MARTIN BOULOGNE\n03 21 99 06 99\ncontact@st-jo.com
URL:https://saintmartinboulogne.fr/agenda/alternance-job-dating-st-jo-2/
LOCATION:Lycée – Campus privés Saint-Joseph\, 26 - 30 route de Calais\, SAINT MARTIN BOULOGNE\, 62280
ATTACH;FMTTYPE=image/jpeg:https://saintmartinboulogne.fr/wp-content/uploads/2023/05/OK-AFFICHE-ALTERNANCE-6juin2023.jpg
ORGANIZER;CN="Lyc%C3%A9e%20-%20Campus%20priv%C3%A9s%20Saint-Joseph":MAILTO:contact@st-jo.com
END:VEVENT
END:VCALENDAR