
BEGIN:VCALENDAR
VERSION:2.0
PRODID:-//Ville de Saint-Martin-Boulogne - ECPv5.4.0.2//NONSGML v1.0//EN
CALSCALE:GREGORIAN
METHOD:PUBLISH
X-WR-CALNAME:Ville de Saint-Martin-Boulogne
X-ORIGINAL-URL:https://saintmartinboulogne.fr
X-WR-CALDESC:Events for Ville de Saint-Martin-Boulogne
BEGIN:VTIMEZONE
TZID:Europe/Paris
BEGIN:DAYLIGHT
TZOFFSETFROM:+0100
TZOFFSETTO:+0200
TZNAME:CEST
DTSTART:20230326T010000
END:DAYLIGHT
BEGIN:STANDARD
TZOFFSETFROM:+0200
TZOFFSETTO:+0100
TZNAME:CET
DTSTART:20231029T010000
END:STANDARD
END:VTIMEZONE
BEGIN:VEVENT
DTSTART;TZID=Europe/Paris:20230423T070000
DTEND;TZID=Europe/Paris:20230423T070000
DTSTAMP:20260422T202046
CREATED:20230406T130239Z
LAST-MODIFIED:20230406T130308Z
UID:8319-1682233200-1682233200@saintmartinboulogne.fr
SUMMARY:Balade Saint-Martinoise
DESCRIPTION:Rouelibre des Amis Saint-Martinois\nÀ vélo tout est plus beau ! \nVenez nombreux découvrir nos parcours\nBALADE SAINT-MARTINOISE\n45 km\, 75 km\, et 110 km\nDimanche 23 avril 2023\n\nInscription à partir de 7h jusque 10h30 au foyer communal Germaine-Dumortier\nClôture : 13h\nParticipation : 2€ pour les licenciés – 4€ pour les non licenciés\nGratuit pour les moins de 18 ans \nLe vélo à assistance électrique est autorisé à une vitesse réglementaire \n+ d’infos : José Géneau au 06 81 10 68 45\ngeneau.jose@orange.fr
URL:https://saintmartinboulogne.fr/agenda/balade-saint-martinoise/
LOCATION:Foyer communal Germaine-Dumortier\, 107\, rue de la Colonne\, SAINT MARTIN BOULOGNE\, 62280
CATEGORIES:Sport
ATTACH;FMTTYPE=image/jpeg:https://saintmartinboulogne.fr/wp-content/uploads/2023/04/Affiche-du-dim-23-avril-2023-avec-logos-Page-01-Snapshot-01.jpg
ORGANIZER;CN="Rouelibre%20des%20Amis%20Saint-Martinois":MAILTO:laurent.fuzellier62@gmail.com
END:VEVENT
END:VCALENDAR