
BEGIN:VCALENDAR
VERSION:2.0
PRODID:-//Ville de Saint-Martin-Boulogne - ECPv5.4.0.2//NONSGML v1.0//EN
CALSCALE:GREGORIAN
METHOD:PUBLISH
X-WR-CALNAME:Ville de Saint-Martin-Boulogne
X-ORIGINAL-URL:https://saintmartinboulogne.fr
X-WR-CALDESC:Events for Ville de Saint-Martin-Boulogne
BEGIN:VTIMEZONE
TZID:Europe/Paris
BEGIN:DAYLIGHT
TZOFFSETFROM:+0100
TZOFFSETTO:+0200
TZNAME:CEST
DTSTART:20230326T010000
END:DAYLIGHT
BEGIN:STANDARD
TZOFFSETFROM:+0200
TZOFFSETTO:+0100
TZNAME:CET
DTSTART:20231029T010000
END:STANDARD
END:VTIMEZONE
BEGIN:VEVENT
DTSTART;TZID=Europe/Paris:20230416T080000
DTEND;TZID=Europe/Paris:20230416T180000
DTSTAMP:20260422T231107
CREATED:20230301T091748Z
LAST-MODIFIED:20230321T135508Z
UID:7608-1681632000-1681668000@saintmartinboulogne.fr
SUMMARY:Braderie Brocante Drumband Saint-Martinois
DESCRIPTION:BRADERIE BROCANTE\nRoute de Desvres\nDimanche 16 avril 2023\nde 8h00 à 18h00\n4€ le mètre (minimum 3 mètres)\nRenseignements et inscriptions :\nCAFÉ DE L’HERMITAGE\n120\, route de Desvres\nDu lundi au dimanche de 9h00 à 12h30 (fermé le mercredi)\nInfos : 03 21 31 94 18
URL:https://saintmartinboulogne.fr/agenda/braderie-brocante-drumband-saint-martinois/
LOCATION:Route de Desvres\, SAINT MARTIN BOULOGNE\, 62280
CATEGORIES:Braderie
ATTACH;FMTTYPE=image/jpeg:https://saintmartinboulogne.fr/wp-content/uploads/2023/03/DRUMBAND-ST-MARTINOIS-16-04-2023-OK-POUR-AFFICHAGE.jpg
ORGANIZER;CN="Drumband%20Saint-Martinois":MAILTO:leporcq.jp@wanadoo.fr
END:VEVENT
END:VCALENDAR