
BEGIN:VCALENDAR
VERSION:2.0
PRODID:-//Ville de Saint-Martin-Boulogne - ECPv5.4.0.2//NONSGML v1.0//EN
CALSCALE:GREGORIAN
METHOD:PUBLISH
X-WR-CALNAME:Ville de Saint-Martin-Boulogne
X-ORIGINAL-URL:https://saintmartinboulogne.fr
X-WR-CALDESC:Events for Ville de Saint-Martin-Boulogne
BEGIN:VTIMEZONE
TZID:Europe/Paris
BEGIN:DAYLIGHT
TZOFFSETFROM:+0100
TZOFFSETTO:+0200
TZNAME:CEST
DTSTART:20230326T010000
END:DAYLIGHT
BEGIN:STANDARD
TZOFFSETFROM:+0200
TZOFFSETTO:+0100
TZNAME:CET
DTSTART:20231029T010000
END:STANDARD
END:VTIMEZONE
BEGIN:VEVENT
DTSTART;TZID=Europe/Paris:20230402T150000
DTEND;TZID=Europe/Paris:20230402T150000
DTSTAMP:20260423T100802
CREATED:20230307T093119Z
LAST-MODIFIED:20230321T140209Z
UID:7687-1680447600-1680447600@saintmartinboulogne.fr
SUMMARY:Concert d'accordéons
DESCRIPTION:LE CLUB D’ACCORDÉONS DE SAINT-MARTIN\n(direction François LACKI) propose\nCONCERT D’ACCORDÉONS\nDimanche 2 avril 2023 à 15h\nau foyer communal Germaine-Dumortier\nrue de la Colonne \nAvec la participation en 2ème partie :\nACCORDÉLOON ET L’ATELIER MUSETTE\nDE L’ÉCOLE DE MUSIQUE DE LOON-PLAGE\n(direction Bernard RUBBELYNCK) \nINFOS : Bruno HERMAND 06 75 01 92 84\nENTRÉE GRATUITE
URL:https://saintmartinboulogne.fr/agenda/concert-daccordeons/
LOCATION:Foyer communal Germaine-Dumortier\, 107\, rue de la Colonne\, SAINT MARTIN BOULOGNE\, 62280
ATTACH;FMTTYPE=image/jpeg:https://saintmartinboulogne.fr/wp-content/uploads/2023/03/concert-accordeon.jpg
END:VEVENT
END:VCALENDAR