
BEGIN:VCALENDAR
VERSION:2.0
PRODID:-//Ville de Saint-Martin-Boulogne - ECPv5.4.0.2//NONSGML v1.0//EN
CALSCALE:GREGORIAN
METHOD:PUBLISH
X-WR-CALNAME:Ville de Saint-Martin-Boulogne
X-ORIGINAL-URL:https://saintmartinboulogne.fr
X-WR-CALDESC:Events for Ville de Saint-Martin-Boulogne
BEGIN:VTIMEZONE
TZID:Europe/Paris
BEGIN:DAYLIGHT
TZOFFSETFROM:+0100
TZOFFSETTO:+0200
TZNAME:CEST
DTSTART:20230326T010000
END:DAYLIGHT
BEGIN:STANDARD
TZOFFSETFROM:+0200
TZOFFSETTO:+0100
TZNAME:CET
DTSTART:20231029T010000
END:STANDARD
END:VTIMEZONE
BEGIN:VEVENT
DTSTART;TZID=Europe/Paris:20230713T210000
DTEND;TZID=Europe/Paris:20230713T210000
DTSTAMP:20260420T121952
CREATED:20230531T133415Z
LAST-MODIFIED:20230531T133634Z
UID:9031-1689282000-1689282000@saintmartinboulogne.fr
SUMMARY:Concert du 13 juillet
DESCRIPTION:CONCERT GRATUIT\nAvec :\nWILLY DENZEY – BILLY CRAWFORD – JESSY MATADOR\nJeudi 13 juillet 2023 à 21h\nSalle de sport Giraux-Sannier \nSpectacle pyrotechnique à l’issue du concert \nEntrée gratuite – Places limitées \n+ d’infos : 03 21 32 84 77
URL:https://saintmartinboulogne.fr/agenda/concert-du-13-juillet-2/
LOCATION:Salle de sport Giraux-Sannier\, Rue Giraux-Sannier\, SAINT MARTIN BOULOGNE\, 62280
ATTACH;FMTTYPE=image/jpeg:https://saintmartinboulogne.fr/wp-content/uploads/2023/05/concert-affiche-juillet2023.jpg
ORGANIZER;CN="Ville%20de%20Saint-Martin-Boulogne":MAILTO:animations@ville-stmartinboulogne.fr
END:VEVENT
END:VCALENDAR