
BEGIN:VCALENDAR
VERSION:2.0
PRODID:-//Ville de Saint-Martin-Boulogne - ECPv5.4.0.2//NONSGML v1.0//EN
CALSCALE:GREGORIAN
METHOD:PUBLISH
X-WR-CALNAME:Ville de Saint-Martin-Boulogne
X-ORIGINAL-URL:https://saintmartinboulogne.fr
X-WR-CALDESC:Events for Ville de Saint-Martin-Boulogne
BEGIN:VTIMEZONE
TZID:Europe/Paris
BEGIN:DAYLIGHT
TZOFFSETFROM:+0100
TZOFFSETTO:+0200
TZNAME:CEST
DTSTART:20230326T010000
END:DAYLIGHT
BEGIN:STANDARD
TZOFFSETFROM:+0200
TZOFFSETTO:+0100
TZNAME:CET
DTSTART:20231029T010000
END:STANDARD
END:VTIMEZONE
BEGIN:VEVENT
DTSTART;TZID=Europe/Paris:20230509T080000
DTEND;TZID=Europe/Paris:20230720T180000
DTSTAMP:20260422T061130
CREATED:20230509T091126Z
LAST-MODIFIED:20230721T161027Z
UID:8747-1683619200-1689876000@saintmartinboulogne.fr
SUMMARY:Concours des maisons fleuries 2023
DESCRIPTION:CONCOURS DES MAISONS FLEURIES 2023\nInscrivez-vous jusqu’au 30 juin \nPassage du jury entre le 1er juillet et le 31 août\nRemise des prix courant novembre \n+ d’infos : 03 21 32 84 77\nanimations@ville-stmartinboulogne.fr
URL:https://saintmartinboulogne.fr/agenda/concours-des-maisons-fleuries-2023/
LOCATION:Ville de Saint-Martin-Boulogne\, 313\, route de Saint-Omer\, SAINT MARTIN BOULOGNE\, 62280
ATTACH;FMTTYPE=image/jpeg:https://saintmartinboulogne.fr/wp-content/uploads/2023/05/Affiche-MFleuries2023OKSITE.jpg
ORGANIZER;CN="Ville%20de%20Saint-Martin-Boulogne":MAILTO:animations@ville-stmartinboulogne.fr
END:VEVENT
END:VCALENDAR