
BEGIN:VCALENDAR
VERSION:2.0
PRODID:-//Ville de Saint-Martin-Boulogne - ECPv5.4.0.2//NONSGML v1.0//EN
CALSCALE:GREGORIAN
METHOD:PUBLISH
X-WR-CALNAME:Ville de Saint-Martin-Boulogne
X-ORIGINAL-URL:https://saintmartinboulogne.fr
X-WR-CALDESC:Events for Ville de Saint-Martin-Boulogne
BEGIN:VTIMEZONE
TZID:Europe/Paris
BEGIN:DAYLIGHT
TZOFFSETFROM:+0100
TZOFFSETTO:+0200
TZNAME:CEST
DTSTART:20230326T010000
END:DAYLIGHT
BEGIN:STANDARD
TZOFFSETFROM:+0200
TZOFFSETTO:+0100
TZNAME:CET
DTSTART:20231029T010000
END:STANDARD
END:VTIMEZONE
BEGIN:VEVENT
DTSTART;TZID=Europe/Paris:20230505T203000
DTEND;TZID=Europe/Paris:20230505T215000
DTSTAMP:20260422T122542
CREATED:20220811T152548Z
LAST-MODIFIED:20230330T144357Z
UID:5187-1683318600-1683323400@saintmartinboulogne.fr
SUMMARY:Dani LARY "Magic birthday" (Magie)
DESCRIPTION:Centre culturel Georges-Brassens \nDANI LARY « MAGIC BIRTHDAY »\nGaya Prod \nUne fois n’est pas coutume… Après avoir incarné pendant 30 ans le magicien de la démesure à travers ses spectacles grandioses dans les plus grandes salles de France et d’Europe (Le Château des secrets\, la clé des mystères\, Retrotemporis\, Tic Tac…)\, Dani Lary nous revient dans un spectacle plus « intime »  et vous convie à venir fêter « avec lui » son anniversaire… Seul en scène dans un décor inspiré de son loft\, avec la complicité de son acolyte de fils Albert Lary. \nUne soirée où tout ne se passera pas exactement comme Dani Lary l’avait prévu… entre choc des générations\, surprises et imprévus… Mais une chose est certaine\, avec Dani Lary\, la magie n’est jamais très loin… \nVendredi 5 mai – 20h30\nTout public – Magie\nDurée : 1h20\nTarif : 10 € \nBilletterie au Centre Brassens ou en ligne\n+ d’infos : 03 21 10 04 90\nwww.centreculturelbrassens.fr
URL:https://saintmartinboulogne.fr/agenda/dani-lary-magic-birthday-magie/
LOCATION:Centre culturel Georges-Brassens\, Rue des Sources\, SAINT MARTIN BOULOGNE\, 62280\, France
CATEGORIES:Culture
ATTACH;FMTTYPE=image/jpeg:https://saintmartinboulogne.fr/wp-content/uploads/2022/08/DANILARY-05052023_WEBFORMAT-SITE.jpg
ORGANIZER;CN="Centre%20culturel%20Georges-Brassens":MAILTO:accueil@centrebrassens.fr
END:VEVENT
END:VCALENDAR