
BEGIN:VCALENDAR
VERSION:2.0
PRODID:-//Ville de Saint-Martin-Boulogne - ECPv5.4.0.2//NONSGML v1.0//EN
CALSCALE:GREGORIAN
METHOD:PUBLISH
X-WR-CALNAME:Ville de Saint-Martin-Boulogne
X-ORIGINAL-URL:https://saintmartinboulogne.fr
X-WR-CALDESC:Events for Ville de Saint-Martin-Boulogne
BEGIN:VTIMEZONE
TZID:Europe/Paris
BEGIN:DAYLIGHT
TZOFFSETFROM:+0100
TZOFFSETTO:+0200
TZNAME:CEST
DTSTART:20230326T010000
END:DAYLIGHT
BEGIN:STANDARD
TZOFFSETFROM:+0200
TZOFFSETTO:+0100
TZNAME:CET
DTSTART:20231029T010000
END:STANDARD
END:VTIMEZONE
BEGIN:VEVENT
DTSTART;TZID=Europe/Paris:20230913T143000
DTEND;TZID=Europe/Paris:20230913T180000
DTSTAMP:20260420T032347
CREATED:20230829T085648Z
LAST-MODIFIED:20230829T085648Z
UID:10330-1694615400-1694628000@saintmartinboulogne.fr
SUMMARY:Don de sang
DESCRIPTION:L’Association des donneurs de sang du Boulonnais organise une collecte de sang mercredi 13 septembre de 14h30 à 18h au foyer communal Germaine-Dumortier. \nPour prendre rendez-vous\, cliquez ici.
URL:https://saintmartinboulogne.fr/agenda/don-de-sang-3/
LOCATION:Foyer communal Germaine-Dumortier\, 107\, rue de la Colonne\, SAINT MARTIN BOULOGNE\, 62280
CATEGORIES:Santé
ATTACH;FMTTYPE=image/jpeg:https://saintmartinboulogne.fr/wp-content/uploads/2023/08/don-de-sang-septembre-2023-scaled.jpg
END:VEVENT
END:VCALENDAR