
BEGIN:VCALENDAR
VERSION:2.0
PRODID:-//Ville de Saint-Martin-Boulogne - ECPv5.4.0.2//NONSGML v1.0//EN
CALSCALE:GREGORIAN
METHOD:PUBLISH
X-WR-CALNAME:Ville de Saint-Martin-Boulogne
X-ORIGINAL-URL:https://saintmartinboulogne.fr
X-WR-CALDESC:Events for Ville de Saint-Martin-Boulogne
BEGIN:VTIMEZONE
TZID:Europe/Paris
BEGIN:DAYLIGHT
TZOFFSETFROM:+0100
TZOFFSETTO:+0200
TZNAME:CEST
DTSTART:20230326T010000
END:DAYLIGHT
BEGIN:STANDARD
TZOFFSETFROM:+0200
TZOFFSETTO:+0100
TZNAME:CET
DTSTART:20231029T010000
END:STANDARD
END:VTIMEZONE
BEGIN:VEVENT
DTSTART;VALUE=DATE:20230513
DTEND;VALUE=DATE:20230530
DTSTAMP:20260421T173344
CREATED:20230425T081443Z
LAST-MODIFIED:20230428T084956Z
UID:8566-1683936000-1685404799@saintmartinboulogne.fr
SUMMARY:Ducasse d'Ostrohove
DESCRIPTION:DUCASSE D’OSTROHOVE\nDu 13 mai au 29 mai 2023\n+ d’infos : 03 21 32 84 77
URL:https://saintmartinboulogne.fr/agenda/ducasse-dostrohove/
LOCATION:Terrain de pétanque Maréchal Leclerc (Ostrohove)\, SAINT MARTIN BOULOGNE\, 62280
ATTACH;FMTTYPE=image/jpeg:https://saintmartinboulogne.fr/wp-content/uploads/2023/04/Affiche-Ducasse-Otrohove.jpg
ORGANIZER;CN="Ville%20de%20Saint-Martin-Boulogne":MAILTO:animations@ville-stmartinboulogne.fr
END:VEVENT
END:VCALENDAR