
BEGIN:VCALENDAR
VERSION:2.0
PRODID:-//Ville de Saint-Martin-Boulogne - ECPv5.4.0.2//NONSGML v1.0//EN
CALSCALE:GREGORIAN
METHOD:PUBLISH
X-WR-CALNAME:Ville de Saint-Martin-Boulogne
X-ORIGINAL-URL:https://saintmartinboulogne.fr
X-WR-CALDESC:Events for Ville de Saint-Martin-Boulogne
BEGIN:VTIMEZONE
TZID:Europe/Paris
BEGIN:DAYLIGHT
TZOFFSETFROM:+0100
TZOFFSETTO:+0200
TZNAME:CEST
DTSTART:20230326T010000
END:DAYLIGHT
BEGIN:STANDARD
TZOFFSETFROM:+0200
TZOFFSETTO:+0100
TZNAME:CET
DTSTART:20231029T010000
END:STANDARD
END:VTIMEZONE
BEGIN:VEVENT
DTSTART;TZID=Europe/Paris:20230506T140000
DTEND;TZID=Europe/Paris:20230508T180000
DTSTAMP:20260422T110717
CREATED:20230421T075208Z
LAST-MODIFIED:20230424T145953Z
UID:8513-1683381600-1683568800@saintmartinboulogne.fr
SUMMARY:Exposition commémorative 8 mai 1945
DESCRIPTION:UFACVG Saint-Martin-Boulogne/Saint-Léonard\nEXPOSITION COMMÉMORATIVE\n8 MAI 1945\nDu 6 au 8 mai 2023\nFoyer communal Germaine-Dumortier\n107\, rue de la Colonne \nVisite de l’exposition :\nLe 6 mai : Ouverture à 14h\nLe 7 mai : 9h – 18h\nLe 8 mai : 14h – 18h \nBuvette sur place \nENTRÉE GRATUITE
URL:https://saintmartinboulogne.fr/agenda/exposition-commemorative-du-8-mai-1945/
LOCATION:Foyer communal Germaine-Dumortier\, 107\, rue de la Colonne\, SAINT MARTIN BOULOGNE\, 62280
CATEGORIES:Exposition
ATTACH;FMTTYPE=image/jpeg:https://saintmartinboulogne.fr/wp-content/uploads/2023/04/Affiche-expo-anciens-combattants-2.jpg
END:VEVENT
END:VCALENDAR