
BEGIN:VCALENDAR
VERSION:2.0
PRODID:-//Ville de Saint-Martin-Boulogne - ECPv5.4.0.2//NONSGML v1.0//EN
CALSCALE:GREGORIAN
METHOD:PUBLISH
X-WR-CALNAME:Ville de Saint-Martin-Boulogne
X-ORIGINAL-URL:https://saintmartinboulogne.fr
X-WR-CALDESC:Events for Ville de Saint-Martin-Boulogne
BEGIN:VTIMEZONE
TZID:Europe/Paris
BEGIN:DAYLIGHT
TZOFFSETFROM:+0100
TZOFFSETTO:+0200
TZNAME:CEST
DTSTART:20230326T010000
END:DAYLIGHT
BEGIN:STANDARD
TZOFFSETFROM:+0200
TZOFFSETTO:+0100
TZNAME:CET
DTSTART:20231029T010000
END:STANDARD
END:VTIMEZONE
BEGIN:VEVENT
DTSTART;VALUE=DATE:20230312
DTEND;VALUE=DATE:20230313
DTSTAMP:20260424T012501
CREATED:20230124T111759Z
LAST-MODIFIED:20230124T112212Z
UID:7197-1678579200-1678665599@saintmartinboulogne.fr
SUMMARY:F-Day Run
DESCRIPTION:Saint-Martin-Boulogne en collaboration avec Aloha sport & organisation \nDans le cadre de la journée internationale des droits des femmes \nF-DAY RUN\n3ème édition\nDimanche 12 mars 2023\nEnsemble sportif Roland Bellegueulle (Rue au Bois)\nInscriptions en ligne\, infos\, horaires :\nfdayrun.com \nF-DAY MINI KIDS – 800m (gratuit)\nF-DAY KIDS – 1\,5km – 3km (gratuit)\nF-DAY RELAIS MIXTE – 2×5 km\nF-DAY MARCHE – 10km\nF-DAY – 5km\nF-DAY – 10km \nPlus d’informations :\nservicedessportssmb@gmail.com
URL:https://saintmartinboulogne.fr/agenda/f-day-run-2/
LOCATION:Ensemble sportif Roland-Bellegueulle\, 93\, rue au Bois\, SAINT MARTIN BOULOGNE\, 62280
CATEGORIES:Sport
ATTACH;FMTTYPE=image/jpeg:https://saintmartinboulogne.fr/wp-content/uploads/2023/01/Affiche-FDAYRUN-2023OKSITE.jpg
ORGANIZER;CN="Service%20des%20sports":MAILTO:sports@ville-stmartinboulogne.fr
END:VEVENT
END:VCALENDAR