
BEGIN:VCALENDAR
VERSION:2.0
PRODID:-//Ville de Saint-Martin-Boulogne - ECPv5.4.0.2//NONSGML v1.0//EN
CALSCALE:GREGORIAN
METHOD:PUBLISH
X-WR-CALNAME:Ville de Saint-Martin-Boulogne
X-ORIGINAL-URL:https://saintmartinboulogne.fr
X-WR-CALDESC:Events for Ville de Saint-Martin-Boulogne
BEGIN:VTIMEZONE
TZID:Europe/Paris
BEGIN:DAYLIGHT
TZOFFSETFROM:+0100
TZOFFSETTO:+0200
TZNAME:CEST
DTSTART:20230326T010000
END:DAYLIGHT
BEGIN:STANDARD
TZOFFSETFROM:+0200
TZOFFSETTO:+0100
TZNAME:CET
DTSTART:20231029T010000
END:STANDARD
END:VTIMEZONE
BEGIN:VEVENT
DTSTART;TZID=Europe/Paris:20230506T190000
DTEND;TZID=Europe/Paris:20230507T150000
DTSTAMP:20260422T093613
CREATED:20230417T150252Z
LAST-MODIFIED:20230417T150252Z
UID:8438-1683399600-1683471600@saintmartinboulogne.fr
SUMMARY:Festival Foodtruck
DESCRIPTION:Le festival Foodtruck revient pour une 2e édition !\nRendez-vous les 6 et 7 mai place Francis-Delury pour se régaler ! \nSept foodtrucks seront présents\, chacun avec son univers culinaire à découvrir.\nDes animations seront également mises en place ainsi que des structures gonflables. \nSamedi 6 mai de 19h à 21h\nDimanche 7 mai de 12h à 15h \n+ D’INFOS : 03 21 32 84 77
URL:https://saintmartinboulogne.fr/agenda/festival-foodtruck/
LOCATION:Place Francis-Delury\, SAINT MARTIN BOULOGNE\, 62280
CATEGORIES:Animation
ATTACH;FMTTYPE=image/png:https://saintmartinboulogne.fr/wp-content/uploads/2023/04/foodtruck-fest-2023.png
ORGANIZER;CN="Ville%20de%20Saint-Martin-Boulogne":MAILTO:animations@ville-stmartinboulogne.fr
END:VEVENT
END:VCALENDAR