
BEGIN:VCALENDAR
VERSION:2.0
PRODID:-//Ville de Saint-Martin-Boulogne - ECPv5.4.0.2//NONSGML v1.0//EN
CALSCALE:GREGORIAN
METHOD:PUBLISH
X-WR-CALNAME:Ville de Saint-Martin-Boulogne
X-ORIGINAL-URL:https://saintmartinboulogne.fr
X-WR-CALDESC:Events for Ville de Saint-Martin-Boulogne
BEGIN:VTIMEZONE
TZID:Europe/Paris
BEGIN:DAYLIGHT
TZOFFSETFROM:+0100
TZOFFSETTO:+0200
TZNAME:CEST
DTSTART:20230326T010000
END:DAYLIGHT
BEGIN:STANDARD
TZOFFSETFROM:+0200
TZOFFSETTO:+0100
TZNAME:CET
DTSTART:20231029T010000
END:STANDARD
END:VTIMEZONE
BEGIN:VEVENT
DTSTART;TZID=Europe/Paris:20230621T143000
DTEND;TZID=Europe/Paris:20230621T220000
DTSTAMP:20260420T193750
CREATED:20230516T141310Z
LAST-MODIFIED:20230524T133808Z
UID:8847-1687357800-1687384800@saintmartinboulogne.fr
SUMMARY:Fête de la musique
DESCRIPTION:FÊTE DE LA MUSIQUE\nParvis du centre culturel Georges-Brassens\nMercredi 21 juin 2023\nde 14h30 à 22h \nP’tit bal\nDisco mobile\nDéambulation musicale\nRestitution des ateliers chorale et guitare \nGratuit \nBuvette\n\n+ d’infos : 03 21 10 04 90\nwww.centreculturelbrassens.fr
URL:https://saintmartinboulogne.fr/agenda/fete-de-la-musique-2/
LOCATION:Centre culturel Georges-Brassens\, Rue des Sources\, SAINT MARTIN BOULOGNE\, 62280\, France
CATEGORIES:Animation
ATTACH;FMTTYPE=image/jpeg:https://saintmartinboulogne.fr/wp-content/uploads/2023/05/affiche-fete-musique-2023-2.jpg
ORGANIZER;CN="Centre%20culturel%20Georges-Brassens":MAILTO:accueil@centrebrassens.fr
END:VEVENT
END:VCALENDAR