
BEGIN:VCALENDAR
VERSION:2.0
PRODID:-//Ville de Saint-Martin-Boulogne - ECPv5.4.0.2//NONSGML v1.0//EN
CALSCALE:GREGORIAN
METHOD:PUBLISH
X-WR-CALNAME:Ville de Saint-Martin-Boulogne
X-ORIGINAL-URL:https://saintmartinboulogne.fr
X-WR-CALDESC:Events for Ville de Saint-Martin-Boulogne
BEGIN:VTIMEZONE
TZID:Europe/Paris
BEGIN:DAYLIGHT
TZOFFSETFROM:+0100
TZOFFSETTO:+0200
TZNAME:CEST
DTSTART:20230326T010000
END:DAYLIGHT
BEGIN:STANDARD
TZOFFSETFROM:+0200
TZOFFSETTO:+0100
TZNAME:CET
DTSTART:20231029T010000
END:STANDARD
END:VTIMEZONE
BEGIN:VEVENT
DTSTART;TZID=Europe/Paris:20230714T113000
DTEND;TZID=Europe/Paris:20230714T113000
DTSTAMP:20260420T091453
CREATED:20230615T131933Z
LAST-MODIFIED:20230615T132030Z
UID:9271-1689334200-1689334200@saintmartinboulogne.fr
SUMMARY:Fête nationale / Apéritif républicain
DESCRIPTION:Fête nationale / Apéritif républicain\nVendredi 14 juillet 2023\nPlace Francis-Delury\nDéfilé\, à 11h30\, de la mairie jusqu’au monument aux morts\nCérémonie & Apéritif républicain\nAnimation musicale\nKermesse animée par le Conseil Municipal des Jeunes \nEntrée libre et gratuite – Infos : 03 21 32 84 77
URL:https://saintmartinboulogne.fr/agenda/fete-nationale-aperitif-republicain/
LOCATION:Place Francis-Delury\, SAINT MARTIN BOULOGNE\, 62280
CATEGORIES:Cérémonie
ATTACH;FMTTYPE=image/jpeg:https://saintmartinboulogne.fr/wp-content/uploads/2023/06/Affiche-Aperitif-Rep-2023.jpg
ORGANIZER;CN="Ville%20de%20Saint-Martin-Boulogne":MAILTO:animations@ville-stmartinboulogne.fr
END:VEVENT
END:VCALENDAR