
BEGIN:VCALENDAR
VERSION:2.0
PRODID:-//Ville de Saint-Martin-Boulogne - ECPv5.4.0.2//NONSGML v1.0//EN
CALSCALE:GREGORIAN
METHOD:PUBLISH
X-WR-CALNAME:Ville de Saint-Martin-Boulogne
X-ORIGINAL-URL:https://saintmartinboulogne.fr
X-WR-CALDESC:Events for Ville de Saint-Martin-Boulogne
BEGIN:VTIMEZONE
TZID:Europe/Paris
BEGIN:DAYLIGHT
TZOFFSETFROM:+0100
TZOFFSETTO:+0200
TZNAME:CEST
DTSTART:20230326T010000
END:DAYLIGHT
BEGIN:STANDARD
TZOFFSETFROM:+0200
TZOFFSETTO:+0100
TZNAME:CET
DTSTART:20231029T010000
END:STANDARD
END:VTIMEZONE
BEGIN:VEVENT
DTSTART;TZID=Europe/Paris:20230513T180000
DTEND;TZID=Europe/Paris:20230513T180000
DTSTAMP:20260421T193030
CREATED:20230426T131646Z
LAST-MODIFIED:20230426T131705Z
UID:8587-1684000800-1684000800@saintmartinboulogne.fr
SUMMARY:Grand concert au profit des Restos du Cœur
DESCRIPTION:Le Réveil Musical de Saint-Martin (Direction : François LACKI)\nLes Vareuses Porteloises (Direction : Sébastien JOUANIQUE)\nGRAND CONCERT\nCHŒUR & ORCHESTRE\nSamedi 13 mai 2023 à 18h\nÉglise du Centre\nTarif : 5 € au profit des Restos du Cœur
URL:https://saintmartinboulogne.fr/agenda/grand-concert-au-profit-des-restos-du-coeur/
LOCATION:Église du Centre\, 29\, route de Desvres\, SAINT MARTIN BOULOGNE\, 62280
ATTACH;FMTTYPE=image/jpeg:https://saintmartinboulogne.fr/wp-content/uploads/2023/04/affiche-concert-13-mai-2023.jpg
ORGANIZER;CN="R%C3%A9veil%20musical":MAILTO:isabelle.manier@yahoo.fr
END:VEVENT
END:VCALENDAR