
BEGIN:VCALENDAR
VERSION:2.0
PRODID:-//Ville de Saint-Martin-Boulogne - ECPv5.4.0.2//NONSGML v1.0//EN
CALSCALE:GREGORIAN
METHOD:PUBLISH
X-WR-CALNAME:Ville de Saint-Martin-Boulogne
X-ORIGINAL-URL:https://saintmartinboulogne.fr
X-WR-CALDESC:Events for Ville de Saint-Martin-Boulogne
BEGIN:VTIMEZONE
TZID:Europe/Paris
BEGIN:DAYLIGHT
TZOFFSETFROM:+0100
TZOFFSETTO:+0200
TZNAME:CEST
DTSTART:20250330T010000
END:DAYLIGHT
BEGIN:STANDARD
TZOFFSETFROM:+0200
TZOFFSETTO:+0100
TZNAME:CET
DTSTART:20251026T010000
END:STANDARD
END:VTIMEZONE
BEGIN:VEVENT
DTSTART;TZID=Europe/Paris:20251031T203000
DTEND;TZID=Europe/Paris:20251031T213000
DTSTAMP:20260419T181842
CREATED:20250626T132150Z
LAST-MODIFIED:20250626T133838Z
UID:18939-1761942600-1761946200@saintmartinboulogne.fr
SUMMARY:HIP-HOP est-ce bien sérieux ?
DESCRIPTION:Centre culturel Georges-Brassens \nHIP-HOP EST-CE BIEN SÉRIEUX ?\nCompagnie sixième dimension \nCe spectacle à mi-chemin entre la danse et le théâtre trace l’épopée du hip-hop\, depuis les rues animées du New York des années 70 jusqu’aux scènes internationales d’aujourd’hui. \nCe témoignage jubilatoire d’une pionnière de la culture hip-hop en France\, vous offre une vision immersive de l’aventure d’un mouvement à la fois festif et engagé. \nUne performance vitaminée et décalée pour un sourire contagieux et une bonne dose d’émotions garantie. \nVendredi 31 octobre – 20h30\nDanse HIP-HOP\nLieu : Centre culturel Georges-Brassens\nTout public\nDurée : 1h\nPlacement libre\nTarif : 6€\n\nBilletterie en ligne\n+ d’infos : 03 21 10 04 90\nwww.centreculturelbrassens.fr \nEn lien avec le spectacle : \n \n\n\n\n\nStage Hip-Hop (8-12 ans)\nJeudi 30 octobre de 9h30 à 12h et de 14h à 16h30\nVendredi 31 octobre de 9h30 à 12h et de 14h à 16h30 + lever de rideau \nTarif : 15€ comprenant 1 place pour assister au spectacle \nLe stage permettra de découvrir un univers technique et esthétique à partir des fondamentaux de la danse.\nLes participants apprendront une petite chorégraphie\, qu’ils présenteront au public à l’occasion d’un lever de rideau avant le spectacle. \nInscrivez-vous
URL:https://saintmartinboulogne.fr/agenda/hip-hop-est-ce-bien-serieux/
LOCATION:Centre culturel Georges-Brassens\, Rue des Sources\, SAINT MARTIN BOULOGNE\, 62280\, France
CATEGORIES:Culture
ATTACH;FMTTYPE=image/jpeg:https://saintmartinboulogne.fr/wp-content/uploads/2025/06/HIP-HOP-EST-CE-BIEN-SERIEUX-31102025-AFFICHE-OK-POUR-AGENDA.jpg
ORGANIZER;CN="Centre%20culturel%20Georges-Brassens":MAILTO:accueil@centrebrassens.fr
END:VEVENT
END:VCALENDAR