
BEGIN:VCALENDAR
VERSION:2.0
PRODID:-//Ville de Saint-Martin-Boulogne - ECPv5.4.0.2//NONSGML v1.0//EN
CALSCALE:GREGORIAN
METHOD:PUBLISH
X-WR-CALNAME:Ville de Saint-Martin-Boulogne
X-ORIGINAL-URL:https://saintmartinboulogne.fr
X-WR-CALDESC:Events for Ville de Saint-Martin-Boulogne
BEGIN:VTIMEZONE
TZID:Europe/Paris
BEGIN:DAYLIGHT
TZOFFSETFROM:+0100
TZOFFSETTO:+0200
TZNAME:CEST
DTSTART:20260329T010000
END:DAYLIGHT
BEGIN:STANDARD
TZOFFSETFROM:+0200
TZOFFSETTO:+0100
TZNAME:CET
DTSTART:20261025T010000
END:STANDARD
END:VTIMEZONE
BEGIN:VEVENT
DTSTART;TZID=Europe/Paris:20260117T140000
DTEND;TZID=Europe/Paris:20260117T170000
DTSTAMP:20260419T163839
CREATED:20251215T143428Z
LAST-MODIFIED:20251215T143439Z
UID:21039-1768658400-1768669200@saintmartinboulogne.fr
SUMMARY:Job dating
DESCRIPTION:Maison de quartier Centre \n« VACANCES FÉVRIER ET AVRIL 2026 »\nRejoignez notre équipe et vivez des vacances inoubliables avec les enfants ! \nRECRUTEMENT ANIMATEURS(TRICES)\nACCUEILS DE LOISIRS\nJOB DATING\nSamedi 17 janvier 2026 de 14h à 17h \nVous êtes passionné(e) par l’animation et le travail auprès des jeunes ? Vous souhaitez partager vos compétences et contribuer à l’épanouissement des enfants et adolescents ? Ne manquez pas notre Job Dating dédié aux Animateurs d’Accueils de Loisirs pour les vacances de février et d’avril 2026 ! \nQue vous soyez titulaire du BAFA\, stagiaire ou que vous envisagiez de passer le BAFA\, nous recherchons des animateurs dynamiques\, créatifs et engagés pour enrichir nos équipes. \nNe laissez pas passer cette chance de rejoindre une équipe motivée et de vivre une expérience stimulante au quotidien avec les jeunes.\nVenez avec votre CV\, votre passion et votre bonne humeur ! \nRenseignements :\nMAISON DE QUARTIER CENTRE\nSquare Isabelle-Nacry – 62280 Saint-Martin-Boulogne\n03 91 90 09 10 – accueilcentre@bellidee.fr
URL:https://saintmartinboulogne.fr/agenda/job-dating/
LOCATION:Maison de quartier Centre\, square Isabelle Nacry\, Saint-Martin-Boulogne\, 62280
CATEGORIES:Animation
ATTACH;FMTTYPE=image/jpeg:https://saintmartinboulogne.fr/wp-content/uploads/2025/12/Affiche-Job-Dating-OK-POUR-AGENDA.jpg
END:VEVENT
END:VCALENDAR