
BEGIN:VCALENDAR
VERSION:2.0
PRODID:-//Ville de Saint-Martin-Boulogne - ECPv5.4.0.2//NONSGML v1.0//EN
CALSCALE:GREGORIAN
METHOD:PUBLISH
X-WR-CALNAME:Ville de Saint-Martin-Boulogne
X-ORIGINAL-URL:https://saintmartinboulogne.fr
X-WR-CALDESC:Events for Ville de Saint-Martin-Boulogne
BEGIN:VTIMEZONE
TZID:Europe/Paris
BEGIN:DAYLIGHT
TZOFFSETFROM:+0100
TZOFFSETTO:+0200
TZNAME:CEST
DTSTART:20230326T010000
END:DAYLIGHT
BEGIN:STANDARD
TZOFFSETFROM:+0200
TZOFFSETTO:+0100
TZNAME:CET
DTSTART:20231029T010000
END:STANDARD
END:VTIMEZONE
BEGIN:VEVENT
DTSTART;TZID=Europe/Paris:20230617T100000
DTEND;TZID=Europe/Paris:20230617T100000
DTSTAMP:20260421T011521
CREATED:20230524T132146Z
LAST-MODIFIED:20230524T133550Z
UID:8949-1686996000-1686996000@saintmartinboulogne.fr
SUMMARY:La Kermesse de l'école Saint Charles
DESCRIPTION:L’équipe enseignante et l’APEL\nprésentent\nLA KERMESSE DE L’ÉCOLE SAINT CHARLES\nSamedi 17 juin 2023\nà partir de 10h\nCour Sainte-Marie\nEntrée côté rue Roger-Salengro \nDes activités pour toute la famille\nStands de jeux – Structures gonflables – Restauration \nSpectacles par classe à partir de 10h
URL:https://saintmartinboulogne.fr/agenda/la-kermesse-de-lecole-saint-charles/
LOCATION:École Saint Charles\, Entrée 22 rue Roger Salengro\, SAINT MARTIN BOULOGNE\, 62280
ATTACH;FMTTYPE=image/png:https://saintmartinboulogne.fr/wp-content/uploads/2023/05/Colorful-Playful-Illustrated-Spring-Carnival-Event-Poster.png
ORGANIZER;CN="APEL%20Saint-Charles":MAILTO:secstcharles@orange.fr
END:VEVENT
END:VCALENDAR