
BEGIN:VCALENDAR
VERSION:2.0
PRODID:-//Ville de Saint-Martin-Boulogne - ECPv5.4.0.2//NONSGML v1.0//EN
CALSCALE:GREGORIAN
METHOD:PUBLISH
X-WR-CALNAME:Ville de Saint-Martin-Boulogne
X-ORIGINAL-URL:https://saintmartinboulogne.fr
X-WR-CALDESC:Events for Ville de Saint-Martin-Boulogne
BEGIN:VTIMEZONE
TZID:Europe/Paris
BEGIN:DAYLIGHT
TZOFFSETFROM:+0100
TZOFFSETTO:+0200
TZNAME:CEST
DTSTART:20230326T010000
END:DAYLIGHT
BEGIN:STANDARD
TZOFFSETFROM:+0200
TZOFFSETTO:+0100
TZNAME:CET
DTSTART:20231029T010000
END:STANDARD
END:VTIMEZONE
BEGIN:VEVENT
DTSTART;TZID=Europe/Paris:20230303T203000
DTEND;TZID=Europe/Paris:20230303T214500
DTSTAMP:20260424T100417
CREATED:20220810T125528Z
LAST-MODIFIED:20221207T083428Z
UID:5141-1677875400-1677879900@saintmartinboulogne.fr
SUMMARY:Les fourberies de Scapin (Théâtre et musique)
DESCRIPTION:Centre Culturel Georges Brassens \nLES FOURBERIES DE SCAPIN\nCompagnie L’Éternel Été – Lucernaire diffusion \nUne troupe de cinq comédiens\, musiciens et chanteurs s’empare d’une des comédies les plus drôles de Molière. Dans un rythme endiablé\, ils se réapproprient en musique l’esprit du théâtre de tréteaux et de la comédie italienne. \nLes deux amis Octave et Léandre ont chacun épousé une jeune femme de naissance inconnue dont ils étaient tombés follement amoureux. A court d’argent et craignant par-dessus tout la réaction de leurs pères rentrant de voyage\, ils supplient Scapin de venir à leur secours. Le valet rusé et généreux va alors mettre en place de nombreuses fourberies contre les deux vieillards pour arriver à ses fins et faire triompher la jeunesse et l’amour véritable. \nScapin ! Le valet le plus célèbre du répertoire\, la scène du sac\, de la galère… Mais surtout une pièce de troupe\, une pièce sur et pour la jeunesse\, alors justement qu’elle est écrite par un Molière de 49 ans\, qui mourra deux ans plus tard. Scapin c’est lui\, chef de troupe éternellement jeune\, au service de la jeunesse avec amour\, débrouillard\, roublard\, revanchard\, non seulement jamais à court d’idées mais toujours avec une longueur d’avance. Avec le caractère de ses personnages et l’enchainement rocambolesque des situations jusqu’à la réconciliation finale\, le texte est pétri de l’esprit de la comédie italienne. Par l’engagement corporel des comédiens\, nous ne serons pas loin de la Commedia dell’arte\, dans sa vibration\, sa bonne humeur communicative et les changements allègres de personnages. \nVendredi 3 mars – 20h30\nTout public – Théâtre et musique\nDurée : 1h15\nTarif : 6 € \nBilletterie au Centre Brassens ou en ligne\n+ d’infos : 03 21 10 04 90\nwww.centreculturelbrassens.fr
URL:https://saintmartinboulogne.fr/agenda/les-fourberies-de-scapin/
LOCATION:Centre culturel Georges-Brassens\, Rue des Sources\, SAINT MARTIN BOULOGNE\, 62280\, France
CATEGORIES:Culture
ATTACH;FMTTYPE=image/jpeg:https://saintmartinboulogne.fr/wp-content/uploads/2022/08/fourberie-scapin-03032022formatWEB.jpg
ORGANIZER;CN="Centre%20culturel%20Georges-Brassens":MAILTO:accueil@centrebrassens.fr
END:VEVENT
END:VCALENDAR