
BEGIN:VCALENDAR
VERSION:2.0
PRODID:-//Ville de Saint-Martin-Boulogne - ECPv5.4.0.2//NONSGML v1.0//EN
CALSCALE:GREGORIAN
METHOD:PUBLISH
X-WR-CALNAME:Ville de Saint-Martin-Boulogne
X-ORIGINAL-URL:https://saintmartinboulogne.fr
X-WR-CALDESC:Events for Ville de Saint-Martin-Boulogne
BEGIN:VTIMEZONE
TZID:Europe/Paris
BEGIN:DAYLIGHT
TZOFFSETFROM:+0100
TZOFFSETTO:+0200
TZNAME:CEST
DTSTART:20230326T010000
END:DAYLIGHT
BEGIN:STANDARD
TZOFFSETFROM:+0200
TZOFFSETTO:+0100
TZNAME:CET
DTSTART:20231029T010000
END:STANDARD
END:VTIMEZONE
BEGIN:VEVENT
DTSTART;TZID=Europe/Paris:20230513T203000
DTEND;TZID=Europe/Paris:20230513T214500
DTSTAMP:20260421T141225
CREATED:20220812T131029Z
LAST-MODIFIED:20230330T145435Z
UID:5196-1684009800-1684014300@saintmartinboulogne.fr
SUMMARY:Les jumeaux "Bonjour\, au revoir\, s'il vous plaît\, merci" (Humour)
DESCRIPTION:Centre culturel Georges-Brassens \nLES JUMEAUX\n« BONJOUR\, AU REVOIR\, S’IL VOUS PLAÎT\, MERCI »\n20h40 Productions \nIl était deux fois…\nUn soir de décembre 1987\, Steeven naissait.\nQuinze minutes plus tard\, ne voulant pas laisser son frère seul plus longtemps\, Christopher le rejoignait.\nDepuis\, les Jumeaux passent leur temps à se marrer. Alors ils en ont fait leur métier.\nMais la trentaine passée\, et quelques cheveux blancs plus tard\, voilà que les frangins commencent à se poser des questions existentielles. Et si leurs parents les avaient confondus à la maternité ? Sont-ils une fascination de Dame nature ou juste une anomalie génétique ? Des jumeaux schizophrènes sont-ils assez nombreux pour faire une belote ?\nAprès dix ans de scène\, les Jumeaux reviennent vous raconter leur double vie.\nVenez partager un grand moment de complicité et de rire avec ce duo attachant\, taquin\, véloce. Et qui ne ressemble à aucun autre ! \nSamedi 13 mai – 20h30\nTout public – Humour\nDurée : 1h15\nTarif : 10 € \nBilletterie au Centre Brassens ou en ligne\n+ d’infos : 03 21 10 04 90\nwww.centreculturelbrassens.fr
URL:https://saintmartinboulogne.fr/agenda/les-jumeaux-bonjour-au-revoir-sil-vous-plait-merci-humour/
LOCATION:Centre culturel Georges-Brassens\, Rue des Sources\, SAINT MARTIN BOULOGNE\, 62280\, France
CATEGORIES:Culture
ATTACH;FMTTYPE=image/jpeg:https://saintmartinboulogne.fr/wp-content/uploads/2022/08/LES-JUMEAUX-13052022formatWEB.jpg
ORGANIZER;CN="Centre%20culturel%20Georges-Brassens":MAILTO:accueil@centrebrassens.fr
END:VEVENT
END:VCALENDAR