
BEGIN:VCALENDAR
VERSION:2.0
PRODID:-//Ville de Saint-Martin-Boulogne - ECPv5.4.0.2//NONSGML v1.0//EN
CALSCALE:GREGORIAN
METHOD:PUBLISH
X-WR-CALNAME:Ville de Saint-Martin-Boulogne
X-ORIGINAL-URL:https://saintmartinboulogne.fr
X-WR-CALDESC:Events for Ville de Saint-Martin-Boulogne
BEGIN:VTIMEZONE
TZID:Europe/Paris
BEGIN:DAYLIGHT
TZOFFSETFROM:+0100
TZOFFSETTO:+0200
TZNAME:CEST
DTSTART:20230326T010000
END:DAYLIGHT
BEGIN:STANDARD
TZOFFSETFROM:+0200
TZOFFSETTO:+0100
TZNAME:CET
DTSTART:20231029T010000
END:STANDARD
END:VTIMEZONE
BEGIN:VEVENT
DTSTART;TZID=Europe/Paris:20230510T183000
DTEND;TZID=Europe/Paris:20230510T193000
DTSTAMP:20260422T042251
CREATED:20230427T130920Z
LAST-MODIFIED:20230428T072650Z
UID:8609-1683743400-1683747000@saintmartinboulogne.fr
SUMMARY:Saint-Martin-Boulogne sous les derniers rois de France (1814-1848)
DESCRIPTION:Saint-Martin-Boulogne\nsous les derniers rois de France\n1814-1848\nPar le « Cercle d’Études en Pays Boulonnais »\nUne conférence d’Isabelle CLAUZEL\nMercredi 10 mai 2023 de 18h30 à 19h30\nFoyer communal Germaine-Dumortier – 107\, rue de la Colonne\nEntrée gratuite
URL:https://saintmartinboulogne.fr/agenda/les-villageois-du-boulonnais/
LOCATION:Foyer communal Germaine-Dumortier\, 107\, rue de la Colonne\, SAINT MARTIN BOULOGNE\, 62280
CATEGORIES:Conférence / rencontre
ATTACH;FMTTYPE=image/jpeg:https://saintmartinboulogne.fr/wp-content/uploads/2023/04/Affiche-Clauzel-Restauration-2023.jpg
ORGANIZER;CN="Cercle%20d%27%C3%89tudes%20en%20Pays%20Boulonnais":MAILTO:cepb@hotmail.fr
END:VEVENT
END:VCALENDAR