
BEGIN:VCALENDAR
VERSION:2.0
PRODID:-//Ville de Saint-Martin-Boulogne - ECPv5.4.0.2//NONSGML v1.0//EN
CALSCALE:GREGORIAN
METHOD:PUBLISH
X-WR-CALNAME:Ville de Saint-Martin-Boulogne
X-ORIGINAL-URL:https://saintmartinboulogne.fr
X-WR-CALDESC:Events for Ville de Saint-Martin-Boulogne
BEGIN:VTIMEZONE
TZID:Europe/Paris
BEGIN:DAYLIGHT
TZOFFSETFROM:+0100
TZOFFSETTO:+0200
TZNAME:CEST
DTSTART:20230326T010000
END:DAYLIGHT
BEGIN:STANDARD
TZOFFSETFROM:+0200
TZOFFSETTO:+0100
TZNAME:CET
DTSTART:20231029T010000
END:STANDARD
END:VTIMEZONE
BEGIN:VEVENT
DTSTART;TZID=Europe/Paris:20230408T200000
DTEND;TZID=Europe/Paris:20230408T200000
DTSTAMP:20260423T031207
CREATED:20230314T154817Z
LAST-MODIFIED:20230321T135619Z
UID:7866-1680984000-1680984000@saintmartinboulogne.fr
SUMMARY:Loto Quine Dark-Angel
DESCRIPTION:DARK-ANGEL\nLOTO QUINE\nSalle polyvalente Brassens à Ostrohove.\nSamedi 8 avril 2023 à 20h (ouverture des portes à 18h30) \nLe pack adultes de 20€ comprend\n1 carte de 6 grilles + 1 carte de 6 grilles (parties spéciales) + 1 faites vos jeux\nLe pack enfants (< 12 ans) de 10€ comprend\n1 carte de 3 grilles + 1 carte de 3 grilles (parties spéciales) + 1 faites vos jeux \n1 place assise = 1 place joueur \nBons d’achat à gagner !\n\nBuvette et restauration sur place \nRenseignements et réservations : 06 66 86 05 08
URL:https://saintmartinboulogne.fr/agenda/loto-quine-dark-angel-3/
LOCATION:Salle polyvalente Centre culturel Georges-Brassens\, Rue des Sources (Ostrohove)\, SAINT MARTIN BOULOGNE\, 62280
CATEGORIES:Loto quine
ATTACH;FMTTYPE=image/jpeg:https://saintmartinboulogne.fr/wp-content/uploads/2023/03/Affiche-Loto-Quine-8-avril-2023-OK.jpg
ORGANIZER;CN="Dark-angel":MAILTO:marjorie.coppin@laposte.net
END:VEVENT
END:VCALENDAR