
BEGIN:VCALENDAR
VERSION:2.0
PRODID:-//Ville de Saint-Martin-Boulogne - ECPv5.4.0.2//NONSGML v1.0//EN
CALSCALE:GREGORIAN
METHOD:PUBLISH
X-WR-CALNAME:Ville de Saint-Martin-Boulogne
X-ORIGINAL-URL:https://saintmartinboulogne.fr
X-WR-CALDESC:Events for Ville de Saint-Martin-Boulogne
BEGIN:VTIMEZONE
TZID:Europe/Paris
BEGIN:DAYLIGHT
TZOFFSETFROM:+0100
TZOFFSETTO:+0200
TZNAME:CEST
DTSTART:20230326T010000
END:DAYLIGHT
BEGIN:STANDARD
TZOFFSETFROM:+0200
TZOFFSETTO:+0100
TZNAME:CET
DTSTART:20231029T010000
END:STANDARD
END:VTIMEZONE
BEGIN:VEVENT
DTSTART;TZID=Europe/Paris:20230318T093000
DTEND;TZID=Europe/Paris:20230318T120000
DTSTAMP:20260423T235203
CREATED:20230208T085806Z
LAST-MODIFIED:20230208T090322Z
UID:7399-1679131800-1679140800@saintmartinboulogne.fr
SUMMARY:Portes ouvertes collège Roger Salengro
DESCRIPTION:PORTES OUVERTES\nCOLLÈGE ROGER SALENGRO\nSamedi 18 mars 2023\nde 9h30 à 12h\nRue Roger Salengro\n62280 Saint-Martin-Boulogne \n– Découvrir les enseignements obligatoires\n– Rencontrer & échanger avec le personnel\n– Se renseigner sur les options & dispositifs d’aide\n– Présentation des nombreuses activités & clubs \nRenseignements : 03 21 31 72 64\nroger-salengro-saint-martin-boulogne.enthdf.fr
URL:https://saintmartinboulogne.fr/agenda/portes-ouvertes-college-roger-salengro/
LOCATION:Collège Roger-Salengro\, Rue Roger Salengro\, SAINT MARTIN BOULOGNE\, 62280
CATEGORIES:Portes ouvertes
ATTACH;FMTTYPE=image/jpeg:https://saintmartinboulogne.fr/wp-content/uploads/2023/02/PORTES-OUVERTES-ROGER-SALENGRO-2023.jpg
END:VEVENT
END:VCALENDAR