
BEGIN:VCALENDAR
VERSION:2.0
PRODID:-//Ville de Saint-Martin-Boulogne - ECPv5.4.0.2//NONSGML v1.0//EN
CALSCALE:GREGORIAN
METHOD:PUBLISH
X-WR-CALNAME:Ville de Saint-Martin-Boulogne
X-ORIGINAL-URL:https://saintmartinboulogne.fr
X-WR-CALDESC:Events for Ville de Saint-Martin-Boulogne
BEGIN:VTIMEZONE
TZID:Europe/Paris
BEGIN:DAYLIGHT
TZOFFSETFROM:+0100
TZOFFSETTO:+0200
TZNAME:CEST
DTSTART:20230326T010000
END:DAYLIGHT
BEGIN:STANDARD
TZOFFSETFROM:+0200
TZOFFSETTO:+0100
TZNAME:CET
DTSTART:20231029T010000
END:STANDARD
END:VTIMEZONE
BEGIN:VEVENT
DTSTART;TZID=Europe/Paris:20230512T100000
DTEND;TZID=Europe/Paris:20230514T180000
DTSTAMP:20260422T024459
CREATED:20230418T085541Z
LAST-MODIFIED:20230505T162016Z
UID:8454-1683885600-1684087200@saintmartinboulogne.fr
SUMMARY:Portes ouvertes des ateliers d'artistes
DESCRIPTION:Dans le cadre des portes ouvertes des ateliers d’artistes\, organisées sous l’égide du Département du Pas-de-Calais\, le collectif « Naturel’Art » vous invite à son exposition autour de différents modes d’expression artistique : pastel\, peinture\, poterie\, Raku\, bijoux\, vaisselles décorées.\nVendredi 12 et samedi 13 : de 10h à 12h et de 14h à 18h.\nDimanche 14 : de 10h à 18h.
URL:https://saintmartinboulogne.fr/agenda/portes-ouvertes-des-ateliers-dartistes/
LOCATION:Espace Émile-Ducrocq\, 42\, Bois du Mont Lambert\, SAINT MARTIN BOULOGNE\, 62280
CATEGORIES:Portes ouvertes
ATTACH;FMTTYPE=image/jpeg:https://saintmartinboulogne.fr/wp-content/uploads/2023/04/naturel-art-portes-ouvertes-artistes-2023.jpeg
END:VEVENT
END:VCALENDAR