
BEGIN:VCALENDAR
VERSION:2.0
PRODID:-//Ville de Saint-Martin-Boulogne - ECPv5.4.0.2//NONSGML v1.0//EN
CALSCALE:GREGORIAN
METHOD:PUBLISH
X-WR-CALNAME:Ville de Saint-Martin-Boulogne
X-ORIGINAL-URL:https://saintmartinboulogne.fr
X-WR-CALDESC:Events for Ville de Saint-Martin-Boulogne
BEGIN:VTIMEZONE
TZID:Europe/Paris
BEGIN:DAYLIGHT
TZOFFSETFROM:+0100
TZOFFSETTO:+0200
TZNAME:CEST
DTSTART:20230326T010000
END:DAYLIGHT
BEGIN:STANDARD
TZOFFSETFROM:+0200
TZOFFSETTO:+0100
TZNAME:CET
DTSTART:20231029T010000
END:STANDARD
END:VTIMEZONE
BEGIN:VEVENT
DTSTART;TZID=Europe/Paris:20230311T090000
DTEND;TZID=Europe/Paris:20230311T120000
DTSTAMP:20260424T071839
CREATED:20230302T124840Z
LAST-MODIFIED:20230302T125704Z
UID:7627-1678525200-1678536000@saintmartinboulogne.fr
SUMMARY:Portes ouvertes St-Jo
DESCRIPTION:PORTES OUVERTES ST-JO\nLe lycée/campus privés Saint Joseph organise ses portes ouvertes le samedi 11 mars de 9h à 12h\nDe la 3ème au BAC +5\n3ème Prépa Métiers\nBac Professionnel\nBac Technologique\nBac Général\nPrépa Concours\nBTS (BAC +2 initial & alternance)\nLicence (BAC +3 alternance)\nMaster (BAC +5 alternance)\n+ D’INFOS : 03 21 99 06 99 – contact@st-jo.com
URL:https://saintmartinboulogne.fr/agenda/portes-ouvertes-st-jo-3/
LOCATION:Lycée – Campus privés Saint-Joseph\, 26 - 30 route de Calais\, SAINT MARTIN BOULOGNE\, 62280
CATEGORIES:Portes ouvertes
ATTACH;FMTTYPE=image/jpeg:https://saintmartinboulogne.fr/wp-content/uploads/2023/03/PORTES-OUVERTES-ST-JO-11-03-2023.jpg
ORGANIZER;CN="Lyc%C3%A9e%20-%20Campus%20priv%C3%A9s%20Saint-Joseph":MAILTO:contact@st-jo.com
END:VEVENT
END:VCALENDAR