
BEGIN:VCALENDAR
VERSION:2.0
PRODID:-//Ville de Saint-Martin-Boulogne - ECPv5.4.0.2//NONSGML v1.0//EN
CALSCALE:GREGORIAN
METHOD:PUBLISH
X-WR-CALNAME:Ville de Saint-Martin-Boulogne
X-ORIGINAL-URL:https://saintmartinboulogne.fr
X-WR-CALDESC:Events for Ville de Saint-Martin-Boulogne
BEGIN:VTIMEZONE
TZID:Europe/Paris
BEGIN:DAYLIGHT
TZOFFSETFROM:+0100
TZOFFSETTO:+0200
TZNAME:CEST
DTSTART:20230326T010000
END:DAYLIGHT
BEGIN:STANDARD
TZOFFSETFROM:+0200
TZOFFSETTO:+0100
TZNAME:CET
DTSTART:20231029T010000
END:STANDARD
END:VTIMEZONE
BEGIN:VEVENT
DTSTART;VALUE=DATE:20230624
DTEND;VALUE=DATE:20230910
DTSTAMP:20260420T175940
CREATED:20230622T095637Z
LAST-MODIFIED:20230623T074851Z
UID:9416-1687564800-1694303999@saintmartinboulogne.fr
SUMMARY:Printemps de la photo 2023
DESCRIPTION:Exposition itinérante\nPRINTEMPS DE LA PHOTO 2023\nDu 24 juin au 9 septembre \nSur les bords de Liane \nAu jardin zen\ndevant la mairie de Saint-Martin-Boulogne \nPhoto-Club Saint Martin\n27\, square Isabelle-Nacry\n62280 SAINT MARTIN BOULOGNE \nInfos : 06 07 71 66 93\nSite : www.photoclubsaintmartin.com\nFacebook : photoclubsaintmartin
URL:https://saintmartinboulogne.fr/agenda/printemps-de-la-photo-2023/
LOCATION:Au jardin zen devant la mairie\, SAINT MARTIN BOULOGNE\, 62280
CATEGORIES:Exposition
ATTACH;FMTTYPE=image/jpeg:https://saintmartinboulogne.fr/wp-content/uploads/2023/06/Affiche_expo2023_250523.jpg
ORGANIZER;CN="Photo-Club%20Saint%20Martin":MAILTO:a.le-lan@laposte.net
END:VEVENT
END:VCALENDAR