
BEGIN:VCALENDAR
VERSION:2.0
PRODID:-//Ville de Saint-Martin-Boulogne - ECPv5.4.0.2//NONSGML v1.0//EN
CALSCALE:GREGORIAN
METHOD:PUBLISH
X-WR-CALNAME:Ville de Saint-Martin-Boulogne
X-ORIGINAL-URL:https://saintmartinboulogne.fr
X-WR-CALDESC:Events for Ville de Saint-Martin-Boulogne
BEGIN:VTIMEZONE
TZID:Europe/Paris
BEGIN:DAYLIGHT
TZOFFSETFROM:+0100
TZOFFSETTO:+0200
TZNAME:CEST
DTSTART:20230326T010000
END:DAYLIGHT
BEGIN:STANDARD
TZOFFSETFROM:+0200
TZOFFSETTO:+0100
TZNAME:CET
DTSTART:20231029T010000
END:STANDARD
END:VTIMEZONE
BEGIN:VEVENT
DTSTART;TZID=Europe/Paris:20230615T180000
DTEND;TZID=Europe/Paris:20230615T193000
DTSTAMP:20260421T023825
CREATED:20230522T123005Z
LAST-MODIFIED:20230524T133903Z
UID:8909-1686852000-1686857400@saintmartinboulogne.fr
SUMMARY:Randonnée nocturne
DESCRIPTION:Les parcours du coeur\nDu 13 au 16 juin 700 enfants vont participer\nau parcours du cœur…\nPourquoi pas vous ?\n\nRANDONNÉE NOCTURNE\nJeudi 15 juin 2023\n18h – 19h30\nDépart du stade Roland-Bellegueulle – 4\,5 km\n\nGRATUIT \nInscriptions service des sports\nservicedessportssmb@gmail.com / 06 74 94 84 84
URL:https://saintmartinboulogne.fr/agenda/randonnee-nocturne/
LOCATION:Terrain d’honneur Roland-Bellegueulle\, Rue au Bois\, SAINT MARTIN BOULOGNE\, 62280
CATEGORIES:Sport
ATTACH;FMTTYPE=image/jpeg:https://saintmartinboulogne.fr/wp-content/uploads/2023/05/affiche-parcours-coeur-2023.jpg
ORGANIZER;CN="Service%20des%20sports":MAILTO:sports@ville-stmartinboulogne.fr
END:VEVENT
END:VCALENDAR