
BEGIN:VCALENDAR
VERSION:2.0
PRODID:-//Ville de Saint-Martin-Boulogne - ECPv5.4.0.2//NONSGML v1.0//EN
CALSCALE:GREGORIAN
METHOD:PUBLISH
X-WR-CALNAME:Ville de Saint-Martin-Boulogne
X-ORIGINAL-URL:https://saintmartinboulogne.fr
X-WR-CALDESC:Events for Ville de Saint-Martin-Boulogne
BEGIN:VTIMEZONE
TZID:Europe/Paris
BEGIN:DAYLIGHT
TZOFFSETFROM:+0100
TZOFFSETTO:+0200
TZNAME:CEST
DTSTART:20230326T010000
END:DAYLIGHT
BEGIN:STANDARD
TZOFFSETFROM:+0200
TZOFFSETTO:+0100
TZNAME:CET
DTSTART:20231029T010000
END:STANDARD
END:VTIMEZONE
BEGIN:VEVENT
DTSTART;VALUE=DATE:20230320
DTEND;VALUE=DATE:20230325
DTSTAMP:20260423T193431
CREATED:20230317T163326Z
LAST-MODIFIED:20230317T163326Z
UID:7972-1679270400-1679702399@saintmartinboulogne.fr
SUMMARY:Semaine nationale de la petite enfance
DESCRIPTION:LUNDI 20 MARS/ 8h30-9h15 / Maison de la Petite Enfance / ACCUEIL EN MUSIQUE \nLUNDI 20 MARS / 10h-11h30 / Jardin des Trois Petits Pas / STREET POP ART (FRESQUE MURALE) / Ouvert à tous à partir de 12 mois. \nLUNDI 20 MARS / 15h / Les Trois Petits Pas / BABY POP PAINTING / réservé aux enfants (non-marchants) fréquentant la structure. \nLUNDI 20 MARS/ 18h / Les Trois Petits Pas / CONFECTION DE PRODUITS D’HYGIÈNE / Sur inscription auprès de Manon au 07 61 58 57 89 (réservé aux adultes). \nMARDI 21 MARS / 10h-11h30 / Maison de Quartier Marlborough / POP ART “CRÉE TON PORTRAIT” / Activité manuelle ouverte à tous à partir de 18 mois / Sur inscription auprès de Manon (3PP) au 07 61 58 57 88\, Natacha (MPE) au 07 61 58 47 27 et Coralie (RPE et familles) 06 12 91 31 94. \nMARDI 21 MARS / à partir de 16h30 / Maison de Quartier Marlborough / POP EN CORPS ” VENEZ DANSER AVEC VOTRE ENFANT” / ouvert à tous. \nMERCREDI 22 MARS/ 9h30-11h / Salle “La Fraternelle” (rue de la colonne) / HOP POP POP “MOTRICITÉ LIBRE” / Ouvert à tous de 3 mois à 4 ans. \nMERCREDI 22 MARS / 16h30-17h30 / Maison de la Petite Enfance et crèche “Les Trois Petits Pas” / LES SENS EN POP “BACS SENSORIELS” / Réservé aux enfants fréquentant les deux structures. \nJEUDI 23 MARS / Départ des crèches à 9h30 ou rendez-vous à la plage à 10h/ POWER OF PLAYA “SORTIE À LA PLAGE D’ÉQUIHEN” (Intervention de la compagnie FILLAMBULLE dans le cadre de l’Enfance de l’Art de la Communauté d’agglomération du Boulonnais) / Ouvert à tous / Sur inscription auprès de Manon (3PP) au 07 61 58 57 88\, Natacha (MPE) au 07 61 58 47 27 et Coralie (RPE et familles) 06 12 91 31 94. \nJEUDI 23 MARS/ 16h30 / crèche «Les Trois Petits Pas» / CONTES ANIMÉS / Réservé aux enfants fréquentant la crèche. \nVENDREDI 24 MARS/ 9h30-11h30 / Maison de Quartier Ostrohove / MASSAGE BÉBÉ / Ouvert à tous. \nVENDREDI 24 MARS/ 10h-11h / Maison de Quartier Marlborough / ATELIER POP CAKE / Ouvert à tous à partir de 2 ans. \nVENDREDI 24 MARS/ 16h-17h30 / Maison de Quartier Marlborough / GOÛTER LECTURE “LIVRES SUSPENDUS ET LIVRES POP” (Intervention bénévole de Malinette et Compagnie) / Ouvert à tous. \nCONTACT : \nMaison de la Petite Enfance / Tél. 03 21 31 11 13\nLes Trois Petits Pas / Tél. 09 80 66 04 55\nCoralie Liénard “Animatrice Relais Petite Enfance” / Tél. 06 12 91 31 94
URL:https://saintmartinboulogne.fr/agenda/semaine-nationale-de-la-petite-enfance/
ATTACH;FMTTYPE=image/jpeg:https://saintmartinboulogne.fr/wp-content/uploads/2023/03/affiche-semaine-petite-enfance-CSE-2023-2.jpg
END:VEVENT
END:VCALENDAR