
BEGIN:VCALENDAR
VERSION:2.0
PRODID:-//Ville de Saint-Martin-Boulogne - ECPv5.4.0.2//NONSGML v1.0//EN
CALSCALE:GREGORIAN
METHOD:PUBLISH
X-WR-CALNAME:Ville de Saint-Martin-Boulogne
X-ORIGINAL-URL:https://saintmartinboulogne.fr
X-WR-CALDESC:Events for Ville de Saint-Martin-Boulogne
BEGIN:VTIMEZONE
TZID:Europe/Paris
BEGIN:DAYLIGHT
TZOFFSETFROM:+0100
TZOFFSETTO:+0200
TZNAME:CEST
DTSTART:20230326T010000
END:DAYLIGHT
BEGIN:STANDARD
TZOFFSETFROM:+0200
TZOFFSETTO:+0100
TZNAME:CET
DTSTART:20231029T010000
END:STANDARD
END:VTIMEZONE
BEGIN:VEVENT
DTSTART;TZID=Europe/Paris:20230527T190000
DTEND;TZID=Europe/Paris:20230528T020000
DTSTAMP:20260421T090022
CREATED:20230322T104444Z
LAST-MODIFIED:20230524T134533Z
UID:8033-1685214000-1685239200@saintmartinboulogne.fr
SUMMARY:Soirée cabaret Calypso
DESCRIPTION:CABARET CALYPSO\nSamedi 27 mai 2023 de 19h à 2h\nSalle polyvalente du Centre culturel Georges-Brassens\nrue des Sources à Ostrohove \nRepas cabaret : 35€\nMise en bouche : soupe d’asperge\nEntrée : salade de gésiers ou feuilleté de gambas au curry\nPlat : suprême de volaille ou duo de poissons\nSalade et fromage\nDessert : les délices des calypsettes \nBilletterie en ligne sur le site helloasso.com\nLe choix du repas se fait sur le site de réservation \nContact : 06 33 67 52 68 ou assocalypso62280@gmail.com
URL:https://saintmartinboulogne.fr/agenda/soiree-cabaret-calypso/
LOCATION:Salle polyvalente Centre culturel Georges-Brassens\, Rue des Sources (Ostrohove)\, SAINT MARTIN BOULOGNE\, 62280
CATEGORIES:Animation
ATTACH;FMTTYPE=image/jpeg:https://saintmartinboulogne.fr/wp-content/uploads/2023/03/affiche-cabaret-calypso-27052023-scaled.jpg
ORGANIZER;CN="Calypso":MAILTO:assocalypso62280@gmail.com
END:VEVENT
END:VCALENDAR