
BEGIN:VCALENDAR
VERSION:2.0
PRODID:-//Ville de Saint-Martin-Boulogne - ECPv5.4.0.2//NONSGML v1.0//EN
CALSCALE:GREGORIAN
METHOD:PUBLISH
X-WR-CALNAME:Ville de Saint-Martin-Boulogne
X-ORIGINAL-URL:https://saintmartinboulogne.fr
X-WR-CALDESC:Events for Ville de Saint-Martin-Boulogne
BEGIN:VTIMEZONE
TZID:Europe/Paris
BEGIN:DAYLIGHT
TZOFFSETFROM:+0100
TZOFFSETTO:+0200
TZNAME:CEST
DTSTART:20230326T010000
END:DAYLIGHT
BEGIN:STANDARD
TZOFFSETFROM:+0200
TZOFFSETTO:+0100
TZNAME:CET
DTSTART:20231029T010000
END:STANDARD
END:VTIMEZONE
BEGIN:VEVENT
DTSTART;TZID=Europe/Paris:20231013T190000
DTEND;TZID=Europe/Paris:20231013T190000
DTSTAMP:20260420T111126
CREATED:20230926T100053Z
LAST-MODIFIED:20231009T151149Z
UID:10695-1697223600-1697223600@saintmartinboulogne.fr
SUMMARY:Soirée Filles Octobre rose
DESCRIPTION:Dans le cadre du mois Octobre rose\nBELLIDÉE\nSOIRÉE FILLES 3ème édition\nVendredi 13 octobre 2023\nà partir de 19h à la salle Louis-Névians.\n\nStands Bien-être :\nBar à ongles\, massage\, sophrologie\, bijoux\,\nsacs\, accessoires\, coiffure. \nStands d’informations :\nCentre Hospitalier de Boulogne-sur-Mer\,\nCœur de femmes\, Espace Ressources Cancers\,\nLa Ligue contre le cancer\, Sein’Vestir… \nUne soirée animée par DJ Laurent Maréchal (Sono Maxi-Music). \nEntrée : 10€ (une boisson\, un sandwich et un dessert compris).\nTous les bénéfices de cette soirée filles seront reversés au profit de la recherche\ncontre le cancer du sein.\n\nPoints de vente des bracelets d’entrée :\nMQM\, MQC\, MQO\, l’OF3\, SAB Institut\,\nBoulangerie Sébastien (Mont-Lambert) et Panier Shop (Ostrohove). \nRenseignements : 03 21 31 09 04
URL:https://saintmartinboulogne.fr/agenda/soiree-filles-octobre-rose-2/
LOCATION:Salle Louis-Névians\, Rue des Sources\, SAINT MARTIN BOULOGNE\, 62280
CATEGORIES:Solidarité
ATTACH;FMTTYPE=image/jpeg:https://saintmartinboulogne.fr/wp-content/uploads/2023/09/Affiche-soiree-Filles-Octobre-2023.jpg
ORGANIZER;CN="Bellid%C3%A9e":MAILTO:accueilcentre@bellidee.fr
END:VEVENT
END:VCALENDAR