
BEGIN:VCALENDAR
VERSION:2.0
PRODID:-//Ville de Saint-Martin-Boulogne - ECPv5.4.0.2//NONSGML v1.0//EN
CALSCALE:GREGORIAN
METHOD:PUBLISH
X-WR-CALNAME:Ville de Saint-Martin-Boulogne
X-ORIGINAL-URL:https://saintmartinboulogne.fr
X-WR-CALDESC:Events for Ville de Saint-Martin-Boulogne
BEGIN:VTIMEZONE
TZID:Europe/Paris
BEGIN:DAYLIGHT
TZOFFSETFROM:+0100
TZOFFSETTO:+0200
TZNAME:CEST
DTSTART:20230326T010000
END:DAYLIGHT
BEGIN:STANDARD
TZOFFSETFROM:+0200
TZOFFSETTO:+0100
TZNAME:CET
DTSTART:20231029T010000
END:STANDARD
END:VTIMEZONE
BEGIN:VEVENT
DTSTART;TZID=Europe/Paris:20230329T150000
DTEND;TZID=Europe/Paris:20230329T154500
DTSTAMP:20260423T130704
CREATED:20220811T084549Z
LAST-MODIFIED:20230330T144827Z
UID:5160-1680102000-1680104700@saintmartinboulogne.fr
SUMMARY:Sortir ? (Théâtre d'ombres)
DESCRIPTION:Centre culturel Georges-Brassens \nSORTIR ?\nCompagnie La Mécanique du Fluide\nCoproduction du Centre Culturel Brassens \nUne enfant n’ose pas sortir de la maison où elle vient de s’installer avec son père. Elle essaie pourtant…\nmais le pas de la porte reste infranchissable. Et si elle invitait la vieille dame de la colline ? On raconte\nqu’elle ne sort jamais de chez elle\, qu’elle a peur de tout\, elle aussi… Sur le vieux dictaphone de papa\, la\npetite enregistre un message pour guider pas à pas la vieille dame\, dans un périple à travers les terribles\ndangers qui les séparent : la Forêt aux mille z’Yeux\, le Pont du gouffre de la Mort\, et plus effrayant encore\nla Caverne qui mange la Lumière… Si elles en viennent à bout\, peut-être apprivoiseront-elles leurs peurs ? \nMercredi 29 mars – 15h\nÀ partir de 6 ans – Théâtre d’ombres\nDurée : environ 45 minutes\nTarif : 4 € \nBilletterie au Centre Brassens ou en ligne\n+ d’infos : 03 21 10 04 90\nwww.centreculturelbrassens.fr
URL:https://saintmartinboulogne.fr/agenda/sortir-theatre-dombres/
LOCATION:Centre culturel Georges-Brassens\, Rue des Sources\, SAINT MARTIN BOULOGNE\, 62280\, France
CATEGORIES:Culture
ATTACH;FMTTYPE=image/jpeg:https://saintmartinboulogne.fr/wp-content/uploads/2022/08/SORTIR_-scaled.jpeg
ORGANIZER;CN="Centre%20culturel%20Georges-Brassens":MAILTO:accueil@centrebrassens.fr
END:VEVENT
END:VCALENDAR