
BEGIN:VCALENDAR
VERSION:2.0
PRODID:-//Ville de Saint-Martin-Boulogne - ECPv5.4.0.2//NONSGML v1.0//EN
CALSCALE:GREGORIAN
METHOD:PUBLISH
X-WR-CALNAME:Ville de Saint-Martin-Boulogne
X-ORIGINAL-URL:https://saintmartinboulogne.fr
X-WR-CALDESC:Events for Ville de Saint-Martin-Boulogne
BEGIN:VTIMEZONE
TZID:Europe/Paris
BEGIN:DAYLIGHT
TZOFFSETFROM:+0100
TZOFFSETTO:+0200
TZNAME:CEST
DTSTART:20230326T010000
END:DAYLIGHT
BEGIN:STANDARD
TZOFFSETFROM:+0200
TZOFFSETTO:+0100
TZNAME:CET
DTSTART:20231029T010000
END:STANDARD
END:VTIMEZONE
BEGIN:VEVENT
DTSTART;TZID=Europe/Paris:20230710T084500
DTEND;TZID=Europe/Paris:20230825T170000
DTSTAMP:20260420T122106
CREATED:20230606T084817Z
LAST-MODIFIED:20230606T085030Z
UID:9103-1688978700-1692982800@saintmartinboulogne.fr
SUMMARY:Stages multisports municipaux gratuits
DESCRIPTION:Pôle Jeunesse St Martin\nVACANCES D’ÉTÉ 2023\nVotre enfant veut faire du SPORT pendant les vacances ?\nDu lundi 10 juillet au vendredi 25 août\, le service des sports propose des stages multisports GRATUITS. \nAccueil : 08h45 – 09h15 /13h45 – 14h15\nActivité : 09h15 – 11h45 / 14h15 – 16h45\nRetour : 11h45 – 12h00 / 16h45 – 17h00\n\nMaternelles (Salle de l’Éveil) :\nLe lundi et le mercredi de 10h00 à 11h30 \nPrimaires (Salle 1 – Complexe sportif Roger-Salengro) :\nDu lundi au vendredi de 8h45 à 12h00 et de 13h45 à 17h00 \nCollégiens (Salle 2 – Complexe sportif Roger-Salengro) :\nDu lundi au vendredi de 8h45 à 12h00 et de 13h45 à 17h00 \nLycéens (Salle de la Fraternelle) :\nDu lundi au vendredi de 13h45 à 17h00 \nNombre de places limité ! \nVENIR EN TENUE SPORTIVE\, BOUTEILLE D’EAU ET GOÛTER ÉQUILIBRÉ ! \nATTENTION PAS D’ANIMATIONS LE 14 JUILLET & LE 15 AOÛT \nRenseignements : Mairie / Service des Sports – Tél. : 06 74 94 84 84\nInscriptions par mail : servicedessportssmb@gmail.com\nFiche d’inscription à retirer sur la page Facebook pôle jeunesse St Martin Boulogne / Site Mairie
URL:https://saintmartinboulogne.fr/agenda/stages-multisports-municipaux-gratuits-5/
LOCATION:Ville de Saint-Martin-Boulogne\, 313\, route de Saint-Omer\, SAINT MARTIN BOULOGNE\, 62280
CATEGORIES:Sport
ATTACH;FMTTYPE=image/jpeg:https://saintmartinboulogne.fr/wp-content/uploads/2023/06/Vacances-ete-2023-OK-POUR-AGENDA-DU-SITE.jpg
ORGANIZER;CN="Service%20des%20sports":MAILTO:sports@ville-stmartinboulogne.fr
END:VEVENT
END:VCALENDAR