
BEGIN:VCALENDAR
VERSION:2.0
PRODID:-//Ville de Saint-Martin-Boulogne - ECPv5.4.0.2//NONSGML v1.0//EN
CALSCALE:GREGORIAN
METHOD:PUBLISH
X-WR-CALNAME:Ville de Saint-Martin-Boulogne
X-ORIGINAL-URL:https://saintmartinboulogne.fr
X-WR-CALDESC:Events for Ville de Saint-Martin-Boulogne
BEGIN:VTIMEZONE
TZID:Europe/Paris
BEGIN:DAYLIGHT
TZOFFSETFROM:+0100
TZOFFSETTO:+0200
TZNAME:CEST
DTSTART:20230326T010000
END:DAYLIGHT
BEGIN:STANDARD
TZOFFSETFROM:+0200
TZOFFSETTO:+0100
TZNAME:CET
DTSTART:20231029T010000
END:STANDARD
END:VTIMEZONE
BEGIN:VEVENT
DTSTART;TZID=Europe/Paris:20230419T100000
DTEND;TZID=Europe/Paris:20230419T170000
DTSTAMP:20260422T213743
CREATED:20230328T155342Z
LAST-MODIFIED:20230330T073119Z
UID:8126-1681898400-1681923600@saintmartinboulogne.fr
SUMMARY:Test'Emploi
DESCRIPTION:Trouve ton métier d’avenir\nTEST’EMPLOI\nMercredi 19 avril 2023\nde 10h à 17h\nSalle de sport Louis-Névians à Ostrohove \nDÉCOUVERTE DES MÉTIERS – RECRUTEMENT – MOBILITÉ\nORIENTATION – TABLES RONDES \nINDUSTRIE – BÂTIMENT – COMMERCE\nNOUVELLES TECHNOLOGIES – SOCIAL – PETITE ENFANCE… \nProgramme complet : SAINTMARTINBOULOGNE.FR \nENTRÉE GRATUITE
URL:https://saintmartinboulogne.fr/agenda/testemploi/
LOCATION:Salle de sport Louis-Névians\, rue des Sources\, SAINT MARTIN BOULOGNE\, 62280
ATTACH;FMTTYPE=image/jpeg:https://saintmartinboulogne.fr/wp-content/uploads/2023/03/affiche-test-emploi-A3.jpg
ORGANIZER;CN="Ville%20de%20Saint-Martin-Boulogne":MAILTO:contact@ville-stmartinboulogne.fr
END:VEVENT
END:VCALENDAR