
BEGIN:VCALENDAR
VERSION:2.0
PRODID:-//Ville de Saint-Martin-Boulogne - ECPv5.4.0.2//NONSGML v1.0//EN
CALSCALE:GREGORIAN
METHOD:PUBLISH
X-WR-CALNAME:Ville de Saint-Martin-Boulogne
X-ORIGINAL-URL:https://saintmartinboulogne.fr
X-WR-CALDESC:Events for Ville de Saint-Martin-Boulogne
BEGIN:VTIMEZONE
TZID:Europe/Paris
BEGIN:DAYLIGHT
TZOFFSETFROM:+0100
TZOFFSETTO:+0200
TZNAME:CEST
DTSTART:20230326T010000
END:DAYLIGHT
BEGIN:STANDARD
TZOFFSETFROM:+0200
TZOFFSETTO:+0100
TZNAME:CET
DTSTART:20231029T010000
END:STANDARD
END:VTIMEZONE
BEGIN:VEVENT
DTSTART;TZID=Europe/Paris:20230702T060000
DTEND;TZID=Europe/Paris:20230702T180000
DTSTAMP:20260420T151355
CREATED:20230622T135246Z
LAST-MODIFIED:20230622T143520Z
UID:9431-1688277600-1688320800@saintmartinboulogne.fr
SUMMARY:Vide-grenier de l'APEL Saint Charles
DESCRIPTION:VIDE-GRENIER DE L’APEL SAINT CHARLES\nDimanche 2 juillet 2023\nde 6h à 18h\nRue Roger-Salengro\nDans la cour de l’école Saint Charles \n2€ le mètre pour les particuliers et les professionnels \nBuvette\, restauration et animations sur place \nRenseignements et inscriptions au 06 36 21 16 33 ou au 06 66 32 63 77
URL:https://saintmartinboulogne.fr/agenda/vide-grenier-de-lapel-saint-charles/
LOCATION:École Saint Charles\, Entrée 22 rue Roger Salengro\, SAINT MARTIN BOULOGNE\, 62280
ATTACH;FMTTYPE=image/jpeg:https://saintmartinboulogne.fr/wp-content/uploads/2023/06/353641892_574994434805014_6009722870430298230_n.jpg
ORGANIZER;CN="APEL%20Saint-Charles":MAILTO:secstcharles@orange.fr
END:VEVENT
END:VCALENDAR