
BEGIN:VCALENDAR
VERSION:2.0
PRODID:-//Ville de Saint-Martin-Boulogne - ECPv5.4.0.2//NONSGML v1.0//EN
CALSCALE:GREGORIAN
METHOD:PUBLISH
X-WR-CALNAME:Ville de Saint-Martin-Boulogne
X-ORIGINAL-URL:https://saintmartinboulogne.fr
X-WR-CALDESC:Events for Ville de Saint-Martin-Boulogne
BEGIN:VTIMEZONE
TZID:Europe/Paris
BEGIN:DAYLIGHT
TZOFFSETFROM:+0100
TZOFFSETTO:+0200
TZNAME:CEST
DTSTART:20230326T010000
END:DAYLIGHT
BEGIN:STANDARD
TZOFFSETFROM:+0200
TZOFFSETTO:+0100
TZNAME:CET
DTSTART:20231029T010000
END:STANDARD
END:VTIMEZONE
BEGIN:VEVENT
DTSTART;VALUE=DATE:20230910
DTEND;VALUE=DATE:20230911
DTSTAMP:20260420T032527
CREATED:20230621T123828Z
LAST-MODIFIED:20230807T123805Z
UID:9378-1694304000-1694390399@saintmartinboulogne.fr
SUMMARY:Vide-grenier du syndicat Le Vallon
DESCRIPTION:Syndicat Le Vallon\nVIDE-GRENIER\nDimanche 10 septembre 2023\nQuartier du Vallon\n(rues Louis le Nain\, Auguste Renoir et Michel-Ange)\n62280 SAINT MARTIN BOULOGNE \nTarifs participants extérieurs :\n10€ les 7 mètres\n12€ les 10 mètres \nRenseignements et réservations\nà partir du mercredi 9 août 2023 :\nchristophe.provain@gmail.com\nInfos : 06 63 83 07 22
URL:https://saintmartinboulogne.fr/agenda/vide-grenier-du-syndicat-le-vallon/
LOCATION:Quartier du Vallon (rues Louis Le Nain\, Auguste Renoir et Michel-Ange)\, SAINT MARTIN BOULOGNE\, 62280
ATTACH;FMTTYPE=image/jpeg:https://saintmartinboulogne.fr/wp-content/uploads/2023/06/BRADERIE-LE-VALLON.jpg
ORGANIZER;CN="Syndicat%20Le%20Vallon":MAILTO:christophe.provain@gmail.com
END:VEVENT
END:VCALENDAR