
BEGIN:VCALENDAR
VERSION:2.0
PRODID:-//Ville de Saint-Martin-Boulogne - ECPv5.4.0.2//NONSGML v1.0//EN
CALSCALE:GREGORIAN
METHOD:PUBLISH
X-WR-CALNAME:Ville de Saint-Martin-Boulogne
X-ORIGINAL-URL:https://saintmartinboulogne.fr
X-WR-CALDESC:Events for Ville de Saint-Martin-Boulogne
BEGIN:VTIMEZONE
TZID:Europe/Paris
BEGIN:DAYLIGHT
TZOFFSETFROM:+0100
TZOFFSETTO:+0200
TZNAME:CEST
DTSTART:20230326T010000
END:DAYLIGHT
BEGIN:STANDARD
TZOFFSETFROM:+0200
TZOFFSETTO:+0100
TZNAME:CET
DTSTART:20231029T010000
END:STANDARD
END:VTIMEZONE
BEGIN:VEVENT
DTSTART;VALUE=DATE:20230827
DTEND;VALUE=DATE:20230828
DTSTAMP:20260420T032528
CREATED:20230725T151818Z
LAST-MODIFIED:20230725T160132Z
UID:9879-1693094400-1693180799@saintmartinboulogne.fr
SUMMARY:Vide-greniers de Saint-Martin Rando
DESCRIPTION:Saint-Martin Rando\nVIDE-GRENIERS (Mont-Lambert)\nRue de la Troquette et rue Ballin\nDimanche 27 août 2023\nde 7h à 19h\n3€ le mètre (minimum 3 m)\nRenseignements et inscriptions :\nLe matin uniquement\n06 31 61 69 00\nLes inscriptions doivent nous parvenir avant le vendredi 25 août 2023
URL:https://saintmartinboulogne.fr/agenda/vide-greniers-de-saint-martin-rando-2/
LOCATION:Rue de la Troquette et rue Ballin (Mont Lambert)\, SAINT MARTIN BOULOGNE\, 62280
ATTACH;FMTTYPE=image/jpeg:https://saintmartinboulogne.fr/wp-content/uploads/2023/07/Affiche-Vide-Greniers-Saint-Martin-Rando-pour-Site-OK.jpg
ORGANIZER;CN="Saint-Martin%20Rando":MAILTO:nonabea@hotmail.fr
END:VEVENT
END:VCALENDAR