
BEGIN:VCALENDAR
VERSION:2.0
PRODID:-//Ville de Saint-Martin-Boulogne - ECPv5.4.0.2//NONSGML v1.0//EN
CALSCALE:GREGORIAN
METHOD:PUBLISH
X-WR-CALNAME:Ville de Saint-Martin-Boulogne
X-ORIGINAL-URL:https://saintmartinboulogne.fr
X-WR-CALDESC:Events for Ville de Saint-Martin-Boulogne
BEGIN:VTIMEZONE
TZID:Europe/Paris
BEGIN:DAYLIGHT
TZOFFSETFROM:+0100
TZOFFSETTO:+0200
TZNAME:CEST
DTSTART:20230326T010000
END:DAYLIGHT
BEGIN:STANDARD
TZOFFSETFROM:+0200
TZOFFSETTO:+0100
TZNAME:CET
DTSTART:20231029T010000
END:STANDARD
END:VTIMEZONE
BEGIN:VEVENT
DTSTART;VALUE=DATE:20230513
DTEND;VALUE=DATE:20230515
DTSTAMP:20260421T185952
CREATED:20230505T085730Z
LAST-MODIFIED:20230505T085928Z
UID:8704-1683936000-1684108799@saintmartinboulogne.fr
SUMMARY:Visites guidées du cimetière militaire de Meerut
DESCRIPTION:Conçu par Sir Herbert Baker\, le cimetière militaire « Meerut Military Cemetery » (cimetière indien) tient son nom de l’hôpital stationnaire de Meerut\, établi à Boulogne à partir d’octobre 1914 avec l’arrivée du Corps indien en France. Aujourd’hui\, un peu plus de 300 membres des forces indiennes y sont commémorées. De plus\, une trentaine d’ouvriers égyptiens ont également été enterrés dans ce cimetière à la suite du raid aérien sur Boulogne dans la nuit du 4 au 5 septembre 1917. Le cimetière contient 339 sépultures et commémorations de la Première Guerre mondiale\, y compris un mémorial pour 32 officiers et hommes de l’armée indienne\, dont les corps ont été incinérés dans le cimetière en 1915. \nÀ l’occasion du Printemps des cimetières\, des visites guidées sont organisées le samedi 13 mai à 14h et le dimanche 14 mai à 11h\, commentées par Raphaël WILLAY\, maître de conférences en civilisation des îles britanniques à l’Université Littoral Côte d’Opale et membre du laboratoire HLLI (Histoire\, Langues\, Littératures et Interculturel)\, avec la participation de Pradhuman SINGH SODHA\, lecteur indien à l’Ulco. \nEntrée libre\nRéservations : 03 21 21 52 75 ou visitcwgc@cwgc.org
URL:https://saintmartinboulogne.fr/agenda/visites-guidees-du-cimetiere-militaire-meerut/
LOCATION:Cimetière militaire de Meerut\, Rue Jean de la Fontaine\, Saint-Martin-Boulogne\, 62280\, France
ATTACH;FMTTYPE=image/jpeg:https://saintmartinboulogne.fr/wp-content/uploads/2023/05/printemps-cimetieres-OK-SITE.jpg
ORGANIZER;CN="Commonwealth%20War%20Graves%20Commission":MAILTO:visitcwgc@cwgc.org
END:VEVENT
END:VCALENDAR